BEGIN:VCALENDAR
VERSION:2.0
PRODID:-//Coastal Hospice - ECPv6.10.2//NONSGML v1.0//EN
CALSCALE:GREGORIAN
METHOD:PUBLISH
X-ORIGINAL-URL:https://www.coastalhospice.org
X-WR-CALDESC:Events for Coastal Hospice
REFRESH-INTERVAL;VALUE=DURATION:PT1H
X-Robots-Tag:noindex
X-PUBLISHED-TTL:PT1H
BEGIN:VTIMEZONE
TZID:America/New_York
BEGIN:DAYLIGHT
TZOFFSETFROM:-0500
TZOFFSETTO:-0400
TZNAME:EDT
DTSTART:20250309T070000
END:DAYLIGHT
BEGIN:STANDARD
TZOFFSETFROM:-0400
TZOFFSETTO:-0500
TZNAME:EST
DTSTART:20251102T060000
END:STANDARD
END:VTIMEZONE
BEGIN:VEVENT
DTSTART;TZID=America/New_York:20250205T170000
DTEND;TZID=America/New_York:20250205T210000
DTSTAMP:20260425T174220
CREATED:20250128T205112Z
LAST-MODIFIED:20250128T205114Z
UID:10002302-1738774800-1738789200@www.coastalhospice.org
SUMMARY:Bowling for Coastal Hospice
DESCRIPTION:Let the Good Times Roll on Wednesday\, February 5\, 2025\, at Eastern Shore Lanes in Pocomoke City\, MD from 5:00 PM – 9:00 PM. \nBenefitting the Macky & Pam Stansell House of Coastal Hospice:\n– Half of the $10 hourly bowling rate will be donated.\n– 10% of concessions sales will be donated.\n– 50/50 Raffle. \nEastern Shore Lanes\n1834 Market Street\, Pocomoke MD
URL:https://www.coastalhospice.org/events/bowling-for-ch/
LOCATION:1834 Market St\, Pocomoke City\, MD
CATEGORIES:Fundraiser
ATTACH;FMTTYPE=image/jpeg:https://www.coastalhospice.org/wp-content/uploads/2025/01/Bowling-for-CH-2.5.25-Flyer.jpg
ORGANIZER;CN="Kerrie Bunting":MAILTO:kbunting@coastalhospice.org
END:VEVENT
BEGIN:VEVENT
DTSTART;TZID=America/New_York:20250219T170000
DTEND;TZID=America/New_York:20250219T210000
DTSTAMP:20260425T174220
CREATED:20250210T015713Z
LAST-MODIFIED:20250210T021844Z
UID:10002306-1739984400-1739998800@www.coastalhospice.org
SUMMARY:Coastal Hospice Charity Night at Tides & Vines
DESCRIPTION:Join us at Tides & Vines in Snow Hill on Wednesday\, February 19 benefiting Coastal Hospice Patient Care. Their laid-back wine bar offers boutique wines\, craft beers\, a cozy atmosphere\, with eclectic vintage décor\, and good vibes! Enjoy guest bartending by Coastal Hospice staff\, live music by Makayla Lizzy\, and a 50/50 Raffle. \nTides & Vines\n106 W Green Street\, Snow Hill MD
URL:https://www.coastalhospice.org/events/tides-vines-coastal-hospice-charity-night/
LOCATION:106 W Green St Snow Hill MD
CATEGORIES:Fundraiser
ATTACH;FMTTYPE=image/jpeg:https://www.coastalhospice.org/wp-content/uploads/2025/02/Tides-Vines-CH-Charity-Night-2.19.25.jpg
ORGANIZER;CN="Kerrie Bunting":MAILTO:kbunting@coastalhospice.org
END:VEVENT
END:VCALENDAR