BEGIN:VCALENDAR
VERSION:2.0
PRODID:-//Coastal Hospice - ECPv6.10.2//NONSGML v1.0//EN
CALSCALE:GREGORIAN
METHOD:PUBLISH
X-ORIGINAL-URL:https://www.coastalhospice.org
X-WR-CALDESC:Events for Coastal Hospice
REFRESH-INTERVAL;VALUE=DURATION:PT1H
X-Robots-Tag:noindex
X-PUBLISHED-TTL:PT1H
BEGIN:VTIMEZONE
TZID:America/New_York
BEGIN:DAYLIGHT
TZOFFSETFROM:-0500
TZOFFSETTO:-0400
TZNAME:EDT
DTSTART:20250309T070000
END:DAYLIGHT
BEGIN:STANDARD
TZOFFSETFROM:-0400
TZOFFSETTO:-0500
TZNAME:EST
DTSTART:20251102T060000
END:STANDARD
END:VTIMEZONE
BEGIN:VEVENT
DTSTART;TZID=America/New_York:20251018T080000
DTEND;TZID=America/New_York:20251018T120000
DTSTAMP:20260423T010943
CREATED:20250516T140805Z
LAST-MODIFIED:20250825T153313Z
UID:10002788-1760774400-1760788800@www.coastalhospice.org
SUMMARY:Coastal Walk & 5K Run
DESCRIPTION:Join Us – Saturday\, October 18\, 2025 \nAssateague Island State Park\n6915 Stephen Decatur Hwy\, Berlin\, MD\nBenefiting the Macky & Pam Stansell House of Coastal Hospice \n2 Mile Walk or 5K Run at Assateague State Park \nBeachwood\, Inc. Custom Builders presents the Coastal Walk & 5K Run (sponsored by Assateague State Park & MD Park Services) benefiting the Macky & Pam Stansell House of Coastal Hospice. Participants can choose to compete (or not) in a 2-mile Walk or 5K Run at this year’s event on Saturday\, October 18th\, at Assateague State Park (campground – day use – 6915 Stephen Decatur Hwy\, Berlin\, MD). Arrive at 8 AM for registration\, refreshments\, and music with a 9 AM start. \nRegistration includes a dri-fit long-sleeve shirt\, and medals will be awarded to the placing participants in each of the categories following the race. Registration for this event is $30 per participant\, with Sponsorship Opportunities available. \nAdditional Details!\nThe 5K will start on the paths but will enter onto the beautiful sandy beach to start your day!\nThe walk will stay on the paved trail leading back to the Assateague State Park Campgrounds! All ages welcome! Bring the whole family — friendly dogs on a leash are welcome. \nThe Macky & Pam Stansell House of Coastal Hospice is a state-of-the-art inpatient hospice\, located in Berlin that offers beds for terminally ill patients\, palliative care\, counseling\, grief support\, and community wellness programs. Founded in 1980\, Coastal Hospice is a nonprofit health care organization that cares for individuals facing life-limiting conditions but who want to remain as active and engaged as possible. Coastal Hospice cares for patients in their home\, nursing home\, assisted living facility\, Coastal Hospice at the Lake\, or the Macky & Pam Stansell House. Our organization has provided quality care to those in need in Wicomico\, Worcester\, Dorchester\, and Somerset counties for 45 years!
URL:https://www.coastalhospice.org/events/coastal-walk-5k/
LOCATION:Assateague Island State Park\, 6915 Stephen Decatur Hwy\, Berlin\, MD\, 21811\, United States
CATEGORIES:Fundraiser
ATTACH;FMTTYPE=application/pdf:https://www.coastalhospice.org/wp-content/uploads/2025/05/Coastal-Walk-5K-Run-2025-Flyer.pdf
ORGANIZER;CN="Kerrie Bunting":MAILTO:kbunting@coastalhospice.org
END:VEVENT
END:VCALENDAR