BEGIN:VCALENDAR
VERSION:2.0
PRODID:-//Coastal Hospice - ECPv6.10.2//NONSGML v1.0//EN
CALSCALE:GREGORIAN
METHOD:PUBLISH
X-ORIGINAL-URL:https://www.coastalhospice.org
X-WR-CALDESC:Events for Coastal Hospice
REFRESH-INTERVAL;VALUE=DURATION:PT1H
X-Robots-Tag:noindex
X-PUBLISHED-TTL:PT1H
BEGIN:VTIMEZONE
TZID:America/New_York
BEGIN:DAYLIGHT
TZOFFSETFROM:-0500
TZOFFSETTO:-0400
TZNAME:EDT
DTSTART:20250309T070000
END:DAYLIGHT
BEGIN:STANDARD
TZOFFSETFROM:-0400
TZOFFSETTO:-0500
TZNAME:EST
DTSTART:20251102T060000
END:STANDARD
END:VTIMEZONE
BEGIN:VEVENT
DTSTART;TZID=America/New_York:20250924T180000
DTEND;TZID=America/New_York:20250924T210000
DTSTAMP:20260423T035857
CREATED:20250516T141404Z
LAST-MODIFIED:20250516T175634Z
UID:10002789-1758736800-1758747600@www.coastalhospice.org
SUMMARY:Blues on the Bay
DESCRIPTION:Save the Date – September 24\, 2025\, | 6 – 9 PM \nMacky’s Bayside Bar & Grill\n5311 Coastal Highway – On the Bay \nBenefiting the Macky & Pam Stansell House of Coastal Hospice
URL:https://www.coastalhospice.org/events/blues-on-the-bay-2/
LOCATION:Macky’s Bayside Bar & Grill\, 5311 Coastal Highway\, Ocean City\, MD\, 21842\, United States
CATEGORIES:Fundraiser
ATTACH;FMTTYPE=image/jpeg:https://www.coastalhospice.org/wp-content/uploads/2025/05/Banner-Blues-on-the-Bay-9.24.25-1.jpg
END:VEVENT
END:VCALENDAR