BEGIN:VCALENDAR
VERSION:2.0
PRODID:-//Coastal Hospice - ECPv6.10.2//NONSGML v1.0//EN
CALSCALE:GREGORIAN
METHOD:PUBLISH
X-ORIGINAL-URL:https://www.coastalhospice.org
X-WR-CALDESC:Events for Coastal Hospice
REFRESH-INTERVAL;VALUE=DURATION:PT1H
X-Robots-Tag:noindex
X-PUBLISHED-TTL:PT1H
BEGIN:VTIMEZONE
TZID:America/New_York
BEGIN:DAYLIGHT
TZOFFSETFROM:-0500
TZOFFSETTO:-0400
TZNAME:EDT
DTSTART:20250309T070000
END:DAYLIGHT
BEGIN:STANDARD
TZOFFSETFROM:-0400
TZOFFSETTO:-0500
TZNAME:EST
DTSTART:20251102T060000
END:STANDARD
END:VTIMEZONE
BEGIN:VEVENT
DTSTART;TZID=America/New_York:20251103T180000
DTEND;TZID=America/New_York:20251103T210000
DTSTAMP:20260422T223229
CREATED:20251014T134527Z
LAST-MODIFIED:20251014T134532Z
UID:10002965-1762192800-1762203600@www.coastalhospice.org
SUMMARY:Charity Night @ Burley Oak (Benefiting Coastal Hospice Charity Care)
DESCRIPTION:Join us for an evening filled with community\, laughter\, and support\, benefiting Coastal Hospice Charity Care at Burley Oak Brewing Company on Monday\, November 3. \n100% of all tips\, plus 10% from every Burley brew\, ready-to-drink beverage\, or vodka cocktail purchased. \nFeatured: brews\, food\, live music\, and good vibes!\nGuest Bartending by Coastal Hospice\nLIVE MUSIC by Margot Resto & Valerie Lankford\nFreshly Shucked Oysters by Fallen Pine Oyster Co.
URL:https://www.coastalhospice.org/events/charitynight-burleyoak/
LOCATION:10016 Old Ocean City Blvd\, Berlin\, MD
CATEGORIES:Fundraiser
ATTACH;FMTTYPE=image/jpeg:https://www.coastalhospice.org/wp-content/uploads/2025/10/Burley-Oak-Brewing-Charity-Night-11.3.25-1.jpg
ORGANIZER;CN="Kerrie Bunting":MAILTO:kbunting@coastalhospice.org
END:VEVENT
END:VCALENDAR