BEGIN:VCALENDAR
VERSION:2.0
PRODID:-//Coastal Hospice - ECPv6.10.2//NONSGML v1.0//EN
CALSCALE:GREGORIAN
METHOD:PUBLISH
X-ORIGINAL-URL:https://www.coastalhospice.org
X-WR-CALDESC:Events for Coastal Hospice
REFRESH-INTERVAL;VALUE=DURATION:PT1H
X-Robots-Tag:noindex
X-PUBLISHED-TTL:PT1H
BEGIN:VTIMEZONE
TZID:America/New_York
BEGIN:DAYLIGHT
TZOFFSETFROM:-0500
TZOFFSETTO:-0400
TZNAME:EDT
DTSTART:20260308T070000
END:DAYLIGHT
BEGIN:STANDARD
TZOFFSETFROM:-0400
TZOFFSETTO:-0500
TZNAME:EST
DTSTART:20261101T060000
END:STANDARD
END:VTIMEZONE
BEGIN:VEVENT
DTSTART;TZID=America/New_York:20260204T170000
DTEND;TZID=America/New_York:20260204T190000
DTSTAMP:20260422T043807
CREATED:20251118T201252Z
LAST-MODIFIED:20251219T022042Z
UID:10003126-1770224400-1770231600@www.coastalhospice.org
SUMMARY:Sip & Press Fundraiser: A Floral Evening
DESCRIPTION:Join us for a colorful fundraiser benefiting Coastal Hospice Charity Care\, featuring the OC Art League’s Pressed Flower Project on Wednesday\, February 4\, from 5:00 PM – 7:00 PM. This event will be held at the OC Art League: 502 94th St\, Ocean City\, MD 21842 (Bayside). Register and reserve your spot today by scanning the QR Code or visiting https://bit.ly/4pP59uD.\n$35 per person | Limited to 24 participants \nYour registration includes:\n• Instructor-led workshop\n• 5×7 rectangular glass floating frame\n• All pressed-flower materials\n• Beverages and light fare
URL:https://www.coastalhospice.org/events/sip-and-press-ocartleague/
LOCATION:502 94th St\, Ocean City\, MD 21842
CATEGORIES:Fundraiser
ATTACH;FMTTYPE=image/jpeg:https://www.coastalhospice.org/wp-content/uploads/2025/11/Sip-Press-Fundraiser-2.4.25.jpg
ORGANIZER;CN="Kerrie Bunting":MAILTO:kbunting@coastalhospice.org
END:VEVENT
END:VCALENDAR