BEGIN:VCALENDAR
VERSION:2.0
PRODID:-//Coastal Hospice - ECPv6.10.2//NONSGML v1.0//EN
CALSCALE:GREGORIAN
METHOD:PUBLISH
X-ORIGINAL-URL:https://www.coastalhospice.org
X-WR-CALDESC:Events for Coastal Hospice
REFRESH-INTERVAL;VALUE=DURATION:PT1H
X-Robots-Tag:noindex
X-PUBLISHED-TTL:PT1H
BEGIN:VTIMEZONE
TZID:America/New_York
BEGIN:DAYLIGHT
TZOFFSETFROM:-0500
TZOFFSETTO:-0400
TZNAME:EDT
DTSTART:20260308T070000
END:DAYLIGHT
BEGIN:STANDARD
TZOFFSETFROM:-0400
TZOFFSETTO:-0500
TZNAME:EST
DTSTART:20261101T060000
END:STANDARD
END:VTIMEZONE
BEGIN:VEVENT
DTSTART;TZID=America/New_York:20260218T160000
DTEND;TZID=America/New_York:20260218T210000
DTSTAMP:20260422T133931
CREATED:20251118T193535Z
LAST-MODIFIED:20251212T164307Z
UID:10003122-1771430400-1771448400@www.coastalhospice.org
SUMMARY:Johnny's Tavern Fundraiser benefiting Coastal Hospice Charity Care 2026
DESCRIPTION:Join Us for a Fun Night Supporting Coastal Hospice Charity Care!\n\nWe’re excited to invite you to Johnny’s Tavern for our fundraiser benefiting Coastal Hospice Charity Care! Join us on February 18th from 4:00 PM to 9:00 PM in Dorchester County. Enjoy an evening of live music and a percentage of event sales will be donated to Coastal Hospice Charity Care.\n\nJohnny’s Tavern\n39 East Main Street\nEast New Market\, Maryland\nWednesday\, February 18th\, 2025\n\nWe hope to see you there!
URL:https://www.coastalhospice.org/events/johnnys-tavern-fundraiser-benefiting-coastal-hospice-charity-care-202/
LOCATION:39 East Main Street\, East New Market\, Maryland
CATEGORIES:Fundraiser
ATTACH;FMTTYPE=image/jpeg:https://www.coastalhospice.org/wp-content/uploads/2025/11/Johnnys-Tavern-Fundraiser-3.26.25-3.jpg
ORGANIZER;CN="Kerrie Bunting":MAILTO:kbunting@coastalhospice.org
END:VEVENT
END:VCALENDAR