BEGIN:VCALENDAR
VERSION:2.0
PRODID:-//Coastal Hospice - ECPv6.10.2//NONSGML v1.0//EN
CALSCALE:GREGORIAN
METHOD:PUBLISH
X-ORIGINAL-URL:https://www.coastalhospice.org
X-WR-CALDESC:Events for Coastal Hospice
REFRESH-INTERVAL;VALUE=DURATION:PT1H
X-Robots-Tag:noindex
X-PUBLISHED-TTL:PT1H
BEGIN:VTIMEZONE
TZID:America/New_York
BEGIN:DAYLIGHT
TZOFFSETFROM:-0500
TZOFFSETTO:-0400
TZNAME:EDT
DTSTART:20260308T070000
END:DAYLIGHT
BEGIN:STANDARD
TZOFFSETFROM:-0400
TZOFFSETTO:-0500
TZNAME:EST
DTSTART:20261101T060000
END:STANDARD
END:VTIMEZONE
BEGIN:VEVENT
DTSTART;TZID=America/New_York:20260225T110000
DTEND;TZID=America/New_York:20260225T230000
DTSTAMP:20260422T133918
CREATED:20251209T191209Z
LAST-MODIFIED:20251215T165400Z
UID:10003129-1772017200-1772060400@www.coastalhospice.org
SUMMARY:Greene Turtle Salisbury - Funds for Friends "Fundraiser"
DESCRIPTION:Join Us at The Greene Turtle for “Funds for Friends”!\nThe Greene Turtle in Salisbury\, MD\, is teaming up with Coastal Hospice to raise Funds for Friends! Mark your calendars\, and come enjoy a meal\, grab take-out\, or shop while supporting a great cause! All proceeds benefit Coastal Hospice Charity Care. \nSimply mention “Coastal Hospice” or show this flyer when ordering. Coastal Hospice will receive 20% of all food\, drink\, take-out\, and merchandise sales! (Gift cards excluded) \n📅 Wednesday\, February 25\, 2025\n⏰ 11:00 AM – 11:00 PM\nThe Greene Turtle in Salisbury\, MD\n2318 N Salisbury Blvd\, Salisbury\, MD 21801
URL:https://www.coastalhospice.org/events/sals-greene-turtle-funds-for-friends/
LOCATION:2318 N Salisbury Blvd\, Salisbury\, MD 21801
CATEGORIES:Fundraiser
ATTACH;FMTTYPE=image/jpeg:https://www.coastalhospice.org/wp-content/uploads/2025/12/Greene-Turtle-Sals-Funds-for-Friends-2.25.26.jpg
ORGANIZER;CN="Kerrie Bunting":MAILTO:kbunting@coastalhospice.org
END:VEVENT
END:VCALENDAR