BEGIN:VCALENDAR
VERSION:2.0
PRODID:-//Coastal Hospice - ECPv6.10.2//NONSGML v1.0//EN
CALSCALE:GREGORIAN
METHOD:PUBLISH
X-WR-CALNAME:Coastal Hospice
X-ORIGINAL-URL:https://www.coastalhospice.org
X-WR-CALDESC:Events for Coastal Hospice
REFRESH-INTERVAL;VALUE=DURATION:PT1H
X-Robots-Tag:noindex
X-PUBLISHED-TTL:PT1H
BEGIN:VTIMEZONE
TZID:America/New_York
BEGIN:DAYLIGHT
TZOFFSETFROM:-0500
TZOFFSETTO:-0400
TZNAME:EDT
DTSTART:20230312T070000
END:DAYLIGHT
BEGIN:STANDARD
TZOFFSETFROM:-0400
TZOFFSETTO:-0500
TZNAME:EST
DTSTART:20231105T060000
END:STANDARD
END:VTIMEZONE
BEGIN:VEVENT
DTSTART;TZID=America/New_York:20230505T090000
DTEND;TZID=America/New_York:20230505T150000
DTSTAMP:20260422T175841
CREATED:20230424T195255Z
LAST-MODIFIED:20230424T195257Z
UID:10001619-1683277200-1683298800@www.coastalhospice.org
SUMMARY:Volunteer Patient Care Training
DESCRIPTION:Our next Volunteer Patient Care Training will be held on Tuesday\, February 14 at Oak Ridge Church in Salisbury\, MD. We invite you to consider becoming a Hospice Patient Care Volunteer. \n\nOur volunteers make a difference by helping hospice teams provide dignity and quality of life to patients and there are many different ways to help. Hospice volunteers are highly trained\, motivated\, caring individuals with a broad range of life experience. \nFriday\, May 5\, 12\, & 19\nOak Ridge Church: 361 Tilghman Rd\, Salisbury\, MD\n9:00AM – 3:00PM \nIf interested\, please email volservices@coastalhospice.org or call 410-543-2590. \n\nVisit our website to learn more about Patient Care and other volunteer opportunities. www.coastalhospice.org/volunteer/
URL:https://www.coastalhospice.org/events/volunteer-patient-care-training-2/2023-05-05/
CATEGORIES:Volunteer
ATTACH;FMTTYPE=image/jpeg:https://www.coastalhospice.org/wp-content/uploads/2023/04/CH-Vol-Patient-Care-Training-May.jpg
ORGANIZER;CN="Volunteer Services":MAILTO:volservices@coastalhospice.org
END:VEVENT
END:VCALENDAR