BEGIN:VCALENDAR
VERSION:2.0
PRODID:-//Coastal Hospice - ECPv6.10.2//NONSGML v1.0//EN
CALSCALE:GREGORIAN
METHOD:PUBLISH
X-ORIGINAL-URL:https://www.coastalhospice.org
X-WR-CALDESC:Events for Coastal Hospice
REFRESH-INTERVAL;VALUE=DURATION:PT1H
X-Robots-Tag:noindex
X-PUBLISHED-TTL:PT1H
BEGIN:VTIMEZONE
TZID:America/New_York
BEGIN:DAYLIGHT
TZOFFSETFROM:-0500
TZOFFSETTO:-0400
TZNAME:EDT
DTSTART:20220313T070000
END:DAYLIGHT
BEGIN:STANDARD
TZOFFSETFROM:-0400
TZOFFSETTO:-0500
TZNAME:EST
DTSTART:20221106T060000
END:STANDARD
END:VTIMEZONE
BEGIN:VEVENT
DTSTART;TZID=America/New_York:20220405T090000
DTEND;TZID=America/New_York:20220405T100000
DTSTAMP:20260422T145126
CREATED:20220401T173233Z
LAST-MODIFIED:20220405T185313Z
UID:10001512-1649149200-1649152800@www.coastalhospice.org
SUMMARY:Afternoon Grief Support Group
DESCRIPTION:Open share support group which provides an opportunity for those who have suffered loss to share challenges and triumphs in their grieving process in a safe and confidential setting.
URL:https://www.coastalhospice.org/events/afternoon-grief-support-group/2022-04-05/
LOCATION:216 Dorchester Avenue\, Cambridge\, MD ZIP 21613\, 216 Dorchester Avenue\, Cambridge\, MD\, 21613\, United States
CATEGORIES:Grief Counseling
ATTACH;FMTTYPE=image/jpeg:https://www.coastalhospice.org/wp-content/uploads/2022/03/AdobeStock_247995837-CA-Website.jpg
END:VEVENT
BEGIN:VEVENT
DTSTART;TZID=America/New_York:20220412T090000
DTEND;TZID=America/New_York:20220412T100000
DTSTAMP:20260422T145126
CREATED:20220401T173233Z
LAST-MODIFIED:20220405T185313Z
UID:10001513-1649754000-1649757600@www.coastalhospice.org
SUMMARY:Afternoon Grief Support Group
DESCRIPTION:Open share support group which provides an opportunity for those who have suffered loss to share challenges and triumphs in their grieving process in a safe and confidential setting.
URL:https://www.coastalhospice.org/events/afternoon-grief-support-group/2022-04-12/
LOCATION:216 Dorchester Avenue\, Cambridge\, MD ZIP 21613\, 216 Dorchester Avenue\, Cambridge\, MD\, 21613\, United States
CATEGORIES:Grief Counseling
ATTACH;FMTTYPE=image/jpeg:https://www.coastalhospice.org/wp-content/uploads/2022/03/AdobeStock_247995837-CA-Website.jpg
END:VEVENT
BEGIN:VEVENT
DTSTART;TZID=America/New_York:20220419T090000
DTEND;TZID=America/New_York:20220419T100000
DTSTAMP:20260422T145126
CREATED:20220401T173233Z
LAST-MODIFIED:20220405T185313Z
UID:10001514-1650358800-1650362400@www.coastalhospice.org
SUMMARY:Afternoon Grief Support Group
DESCRIPTION:Open share support group which provides an opportunity for those who have suffered loss to share challenges and triumphs in their grieving process in a safe and confidential setting.
URL:https://www.coastalhospice.org/events/afternoon-grief-support-group/2022-04-19/
LOCATION:216 Dorchester Avenue\, Cambridge\, MD ZIP 21613\, 216 Dorchester Avenue\, Cambridge\, MD\, 21613\, United States
CATEGORIES:Grief Counseling
ATTACH;FMTTYPE=image/jpeg:https://www.coastalhospice.org/wp-content/uploads/2022/03/AdobeStock_247995837-CA-Website.jpg
END:VEVENT
BEGIN:VEVENT
DTSTART;TZID=America/New_York:20220421T080000
DTEND;TZID=America/New_York:20220421T090000
DTSTAMP:20260422T145126
CREATED:20220401T211937Z
LAST-MODIFIED:20220405T200955Z
UID:10001518-1650528000-1650531600@www.coastalhospice.org
SUMMARY:Make Your Wishes Known With Advance Care Planning
DESCRIPTION:Live Webinar. In this informative presentation\, our panel will discuss the importance of starting conversations regarding End-of-Life Care early. Our experts explain the difference between Advance Directive\, Living Will\, Medical Power of Attorney\, and MOLST. Join us and learn how to fill out the appropriate forms\, how to update information if you change your mind\, and how to make sure your wishes are known ahead of time. This is a webinar you don’t want to miss!  \nMODERATOR:\nLauren Blair | Provider & Community Relations Manager\, Coastal Hospice  \nFEATURED PANELISTS:\nGeorgette Pierce\, RN\, BSN | Nurse Care Coordinator for Population Health\, TidalHealth \nJohn Tyler | Manager of Pastoral Care\, TidalHealth  \nRegister Here
URL:https://www.coastalhospice.org/events/make-your-wishes-known-advance-care-planning/
LOCATION:Maryland
CATEGORIES:Caregiver Academy
ATTACH;FMTTYPE=image/jpeg:https://www.coastalhospice.org/wp-content/uploads/2022/04/AdobeStock_303311091-Advance-Care-Planning.jpg
END:VEVENT
BEGIN:VEVENT
DTSTART;TZID=America/New_York:20220426T090000
DTEND;TZID=America/New_York:20220426T100000
DTSTAMP:20260422T145126
CREATED:20220401T173233Z
LAST-MODIFIED:20220405T185313Z
UID:10001515-1650963600-1650967200@www.coastalhospice.org
SUMMARY:Afternoon Grief Support Group
DESCRIPTION:Open share support group which provides an opportunity for those who have suffered loss to share challenges and triumphs in their grieving process in a safe and confidential setting.
URL:https://www.coastalhospice.org/events/afternoon-grief-support-group/2022-04-26/
LOCATION:216 Dorchester Avenue\, Cambridge\, MD ZIP 21613\, 216 Dorchester Avenue\, Cambridge\, MD\, 21613\, United States
CATEGORIES:Grief Counseling
ATTACH;FMTTYPE=image/jpeg:https://www.coastalhospice.org/wp-content/uploads/2022/03/AdobeStock_247995837-CA-Website.jpg
END:VEVENT
END:VCALENDAR