BEGIN:VCALENDAR
VERSION:2.0
PRODID:-//Coastal Hospice - ECPv6.10.2//NONSGML v1.0//EN
CALSCALE:GREGORIAN
METHOD:PUBLISH
X-WR-CALNAME:Coastal Hospice
X-ORIGINAL-URL:https://www.coastalhospice.org
X-WR-CALDESC:Events for Coastal Hospice
REFRESH-INTERVAL;VALUE=DURATION:PT1H
X-Robots-Tag:noindex
X-PUBLISHED-TTL:PT1H
BEGIN:VTIMEZONE
TZID:America/New_York
BEGIN:DAYLIGHT
TZOFFSETFROM:-0500
TZOFFSETTO:-0400
TZNAME:EDT
DTSTART:20220313T070000
END:DAYLIGHT
BEGIN:STANDARD
TZOFFSETFROM:-0400
TZOFFSETTO:-0500
TZNAME:EST
DTSTART:20221106T060000
END:STANDARD
END:VTIMEZONE
BEGIN:VEVENT
DTSTART;TZID=America/New_York:20220503T090000
DTEND;TZID=America/New_York:20220503T100000
DTSTAMP:20260422T132744
CREATED:20220401T173233Z
LAST-MODIFIED:20220405T185313Z
UID:10001516-1651568400-1651572000@www.coastalhospice.org
SUMMARY:Afternoon Grief Support Group
DESCRIPTION:Open share support group which provides an opportunity for those who have suffered loss to share challenges and triumphs in their grieving process in a safe and confidential setting.
URL:https://www.coastalhospice.org/events/afternoon-grief-support-group/2022-05-03/
LOCATION:216 Dorchester Avenue\, Cambridge\, MD ZIP 21613\, 216 Dorchester Avenue\, Cambridge\, MD\, 21613\, United States
CATEGORIES:Grief Counseling
ATTACH;FMTTYPE=image/jpeg:https://www.coastalhospice.org/wp-content/uploads/2022/03/AdobeStock_247995837-CA-Website.jpg
END:VEVENT
BEGIN:VEVENT
DTSTART;TZID=America/New_York:20220510T090000
DTEND;TZID=America/New_York:20220510T100000
DTSTAMP:20260422T132744
CREATED:20220401T173233Z
LAST-MODIFIED:20220405T185313Z
UID:10001517-1652173200-1652176800@www.coastalhospice.org
SUMMARY:Afternoon Grief Support Group
DESCRIPTION:Open share support group which provides an opportunity for those who have suffered loss to share challenges and triumphs in their grieving process in a safe and confidential setting.
URL:https://www.coastalhospice.org/events/afternoon-grief-support-group/2022-05-10/
LOCATION:216 Dorchester Avenue\, Cambridge\, MD ZIP 21613\, 216 Dorchester Avenue\, Cambridge\, MD\, 21613\, United States
CATEGORIES:Grief Counseling
ATTACH;FMTTYPE=image/jpeg:https://www.coastalhospice.org/wp-content/uploads/2022/03/AdobeStock_247995837-CA-Website.jpg
END:VEVENT
BEGIN:VEVENT
DTSTART;TZID=America/New_York:20220526T080000
DTEND;TZID=America/New_York:20220526T090000
DTSTAMP:20260422T132744
CREATED:20220420T174834Z
LAST-MODIFIED:20220420T192430Z
UID:10001519-1653552000-1653555600@www.coastalhospice.org
SUMMARY:Difficult Conversations at the End-of-Life
DESCRIPTION:FREE LIVE WEBINAR!\nJoin our panel of experts as they share tools on how to approach the hard conversations that healthcare providers must have with patients facing life-limiting conditions. Dr. Ghulam Waris and Dr. Stacy Cottingham will share their own strategies for meeting patients where they are\, choosing helpful words\, and having meaningful and productive conversations with patients and their families. \nMODERATOR:\nMonica Escalante | President\, Coastal Hospice \nFEATURED PANELISTS:\nDr. Ghulam Waris\, F.A.A.G.M. | Chief Medical Director\, Coastal Hospice\nDr. Stacy Cottingham\, PhD\, RN\, CHPN | Chief Clinical Officer\, Coastal Hospice \nContinuing Education: 1.0 contact hour for physicians\, nurses\, and social workers.\n\nPhysicians: Accreditation Statement for CME: This activity has been planned and implemented in accordance with the accreditation requirements and policies of the Accredited Council for Continuing Medical Education (ACCME) through the joint providership of TidalHealth Peninsula Regional and Coastal Hospice. TidalHealth Peninsula Regional is accredited by MedChi\, The Maryland State Medical Society to provide continuing medical education for physicians. \nDesignation Statement: The Medical Education Team of TidalHealth Peninsula Regional designates this live activity for a maximum of Physicians should claim only the credit commensurate with the extent of their participation in the activity. \nDisclosure Statement: The planners\, speakers and Education Team of this educational activity declare they have no relevant financial relationship(s) to disclose with ineligible companies whose primary business is producing\, marketing\, selling\, re-selling or distributing healthcare products used by or on patients. \nNurses: The nursing continuing professional development activity was approved by TidalHealth\, an accredited approver by the American Nurses Credentialing Center’s Commission on Accreditation. \nSocial Workers: TidalHealth Peninsula Regional is authorized by the Board of Social Work Examiners in Maryland to sponsor social work continuing education learning activities and maintains full responsibility for this program. This training qualifies for Category I continuing education units. \nParticipants must attend the webinar in its entirety and complete the evaluation to receive CEU credits. \nThis event is offered in partnership with TidalHealth\nRegister Here  
URL:https://www.coastalhospice.org/events/difficult-conversations-at-the-end-of-life/
LOCATION:Maryland
CATEGORIES:Caregiver Academy
ATTACH;FMTTYPE=image/jpeg:https://www.coastalhospice.org/wp-content/uploads/2022/04/AdobeStock_207593902-Low-Res-for-Zoom@2x.jpg
ORGANIZER;CN="Caregiver Academy":MAILTO:caregiveracademy@coastalhospice.org
END:VEVENT
END:VCALENDAR