BEGIN:VCALENDAR
VERSION:2.0
PRODID:-//Coastal Hospice - ECPv6.10.2//NONSGML v1.0//EN
CALSCALE:GREGORIAN
METHOD:PUBLISH
X-ORIGINAL-URL:https://www.coastalhospice.org
X-WR-CALDESC:Events for Coastal Hospice
REFRESH-INTERVAL;VALUE=DURATION:PT1H
X-Robots-Tag:noindex
X-PUBLISHED-TTL:PT1H
BEGIN:VTIMEZONE
TZID:America/New_York
BEGIN:DAYLIGHT
TZOFFSETFROM:-0500
TZOFFSETTO:-0400
TZNAME:EDT
DTSTART:20220313T070000
END:DAYLIGHT
BEGIN:STANDARD
TZOFFSETFROM:-0400
TZOFFSETTO:-0500
TZNAME:EST
DTSTART:20221106T060000
END:STANDARD
END:VTIMEZONE
BEGIN:VEVENT
DTSTART;TZID=America/New_York:20220910T173000
DTEND;TZID=America/New_York:20220910T193000
DTSTAMP:20260422T071713
CREATED:20220713T021023Z
LAST-MODIFIED:20220718T195056Z
UID:10001537-1662831000-1662838200@www.coastalhospice.org
SUMMARY:Annual Wicomico County Memorial Gathering
DESCRIPTION:Coastal Hospice invites you\, your family and our community to honor the life of your loved one by attending our Annual Wicomico County Memorial Gathering – Night of Lights Candlelight Vigil. \nWe are planning a special remembrance celebration and we invite you to send (1) photo of your loved one in advance to be displayed at the event.To submit photos and for more information contact Alvin Harmon at aharmon@coastalhospice.org or 410-742-8732 ext. 440 \nSATURDAY\, SEPTEMBER 10 @ 5:30 PMSalisbury Riverwalk Amphitheater | 210 S Salisbury Blvd.\, Salisbury MD 21801 \nParking Lots: 206 E Market St\, Salisbury\, MD 21801If the parking lots fill\, there will be additional parking available in M&T Bank and Doctor’s offices on Carroll Street.Parking at La Quinta is prohibited. \nRegistration is FREE! TO RESERVE A SPOT\, PLEASE RSVP BELOW!When registering\, only Name and Email are required. Please type “N/A” if fields are not applicable. \nWe look forward to seeing you and sharing together this time of remembrance.Amphitheater seating is available but feel free to bring your own lawn chair!
URL:https://www.coastalhospice.org/events/annual-wicomico-memorial-gathering/
ATTACH;FMTTYPE=image/jpeg:https://www.coastalhospice.org/wp-content/uploads/2022/07/Annual-Worcester-Memorial-Gathering-6.jpg
END:VEVENT
BEGIN:VEVENT
DTSTART;TZID=America/New_York:20220912T130000
DTEND;TZID=America/New_York:20220912T140000
DTSTAMP:20260422T071713
CREATED:20220804T150932Z
LAST-MODIFIED:20241009T172942Z
UID:10001552-1662987600-1662991200@www.coastalhospice.org
SUMMARY:Caregiver Support Group - Worcester County
DESCRIPTION:6-Week Group: Open to our Worcester County Community\nMONDAYS | SEPTEMBER 12 – OCTOBER 17 | 1:00 P.M. – 2:00 P.M. \nMacky & Pam Stansell House1500 Ocean Parkway\, Ocean Pines\, MD 21811Community Room (Ground Level) \nRegistration is free\, but space is limited.To register\, only Name and Email are required. Please type “N/A” if fields are not applicable.If the registration button is no longer available\, that means all spots have been filled.If you would like to be added to the waiting list\, please email Cristina Puig-Lugo at CPuig-Lugo@coastalhospice.org or call 410-742-8732 ext. 334 \n\nCommitment to attend all meetings is highly encouraged!\nPlease arrive 10 minutes early\, park in the parking lot to the right and enter through the lower level side door (ground level and handicap accessible).\nBased on current Coastal Hospice COVID protocol\, masks will be required.\n\n  \nAdditional Caregiver Support Group: Please see EVENT calendar to register!Wicomico County Caregiver Support GroupFRIDAYS | September 16 – October 21  | 11-12 AM at the Community Foundation of the Eastern Shore.
URL:https://www.coastalhospice.org/events/caregiver-support-worcester/2022-09-12/
LOCATION:Macky & Pam Stansell House\, 1500 Ocean Parkway\, Berlin\, MD\, 21811\, United States
CATEGORIES:Support Group
ATTACH;FMTTYPE=image/jpeg:https://www.coastalhospice.org/wp-content/uploads/2022/08/Worcester-County-Caregiver-Support-Group-Sept22.jpg
END:VEVENT
BEGIN:VEVENT
DTSTART;TZID=America/New_York:20220912T160000
DTEND;TZID=America/New_York:20220912T170000
DTSTAMP:20260422T071713
CREATED:20220803T173505Z
LAST-MODIFIED:20241009T170009Z
UID:10001546-1662998400-1663002000@www.coastalhospice.org
SUMMARY:Bereavement Support Group – Worcester County
DESCRIPTION:6-Week GroupMONDAYS | SEPTEMBER 12 – OCTOBER 17 | 4:00 P.M. – 5:00 P.M. \nMacky & Pam Stansell House1500 Ocean Parkway\, Ocean Pines\, MD 21811Community Room (Ground Level) \nOpen to our Worcester County Community. \n\nWe request that you wait a minimum of 3 months after the death of loved one to attend.\nCommitment to attend all meetings is highly encouraged!\nPlease arrive 10 minutes early\, park in the parking lot to the right and enter through the lower level side door (ground level and handicap accessible).\nBased on current CFES COVID protocol\, masks will be required.\n\nRegistration is free\, but space is limited.To register\, only Name and Email are required. Please type “N/A” if fields are not applicable.If the registration button is no longer available\, that means all spots have been filled.If you would like to be added to the waiting list\, please email Cristina Puig-Lugo at CPuig-Lugo@coastalhospice.org or call 410-742-8732 ext. 334  \nADDITIONAL SUPPORT GROUPS: Please see EVENT calendar to register!Wicomico County Bereavement Support GroupFRIDAYS | September 16 – October 21  | 1-2 PM at the Community Foundation of the Eastern Shore. \nWicomico County SPANISH Bereavement Support GroupWEDNESDAYS | September 14 – October 19 | 4-5 PM at St. Francis de Sales.
URL:https://www.coastalhospice.org/events/bereavement-support-group-worcester/2022-09-12/
LOCATION:Macky & Pam Stansell House\, 1500 Ocean Parkway\, Berlin\, MD\, 21811\, United States
CATEGORIES:Support Group
ATTACH;FMTTYPE=image/jpeg:https://www.coastalhospice.org/wp-content/uploads/2022/08/Worcester-Bereavement-Support-Group-Sep.2022.jpg
END:VEVENT
BEGIN:VEVENT
DTSTART;TZID=America/New_York:20220916T130000
DTEND;TZID=America/New_York:20220916T140000
DTSTAMP:20260422T071713
CREATED:20220803T164223Z
LAST-MODIFIED:20220805T185743Z
UID:10001540-1663333200-1663336800@www.coastalhospice.org
SUMMARY:Bereavement Support Group - Wicomico County
DESCRIPTION:6-Week GroupFRIDAYS | SEPTEMBER 16 – OCTOBER 21 | 1:00 P.M. – 2:00 P.M. \nCommunity Foundation of the Eastern Shore1324 Belmont Ave.\, Suite 401\, Salisbury\, MDLarge Conference Room (1st Floor) \nOpen to our Wicomico County Community. \n\nWe request that you wait a minimum of 3 months after the death of loved one to attend.\nCommitment to attend all meetings is highly encouraged!\nPlease arrive 10 minutes early and enter through the main entrance (handicap accessible).\nBased on current CFES COVID protocol\, masks will be required.\n\nRegistration is free\, but space is limited.To register\, only Name and Email are required. Please type “N/A” if fields are not applicable.If the registration button is no longer available\, that means all spots have been filled.If you would like to be added to the waiting list\, please email Cristina Puig-Lugo at CPuig-Lugo@coastalhospice.org or call 410-742-8732 ext. 334 \nADDITIONAL SUPPORT GROUPS: Please see EVENT calendar to register!Worcester County Bereavement Support GroupMONDAYS | September 12 – October 17  | 4-5 PM at the Macky & Pam Stansell House. \nWicomico County SPANISH Bereavement Support GroupWEDNESDAYS | September 14 – October 19 | 4-5 PM at St. Francis de Sales.
URL:https://www.coastalhospice.org/events/bereavement-support-wicomico/2022-09-16/
LOCATION:Community Foundation of the Eastern Shore\, 1324 Belmont Avenue\, Ste. 401\, Salisbury\, MD\, 21804
CATEGORIES:Support Group
ATTACH;FMTTYPE=image/jpeg:https://www.coastalhospice.org/wp-content/uploads/2022/08/Wicomico-Bereavement-Support-Group-Sep.2022.jpg
END:VEVENT
BEGIN:VEVENT
DTSTART;TZID=America/New_York:20220919T130000
DTEND;TZID=America/New_York:20220919T140000
DTSTAMP:20260422T071713
CREATED:20220804T150932Z
LAST-MODIFIED:20241009T172942Z
UID:10001553-1663592400-1663596000@www.coastalhospice.org
SUMMARY:Caregiver Support Group - Worcester County
DESCRIPTION:6-Week Group: Open to our Worcester County Community\nMONDAYS | SEPTEMBER 12 – OCTOBER 17 | 1:00 P.M. – 2:00 P.M. \nMacky & Pam Stansell House1500 Ocean Parkway\, Ocean Pines\, MD 21811Community Room (Ground Level) \nRegistration is free\, but space is limited.To register\, only Name and Email are required. Please type “N/A” if fields are not applicable.If the registration button is no longer available\, that means all spots have been filled.If you would like to be added to the waiting list\, please email Cristina Puig-Lugo at CPuig-Lugo@coastalhospice.org or call 410-742-8732 ext. 334 \n\nCommitment to attend all meetings is highly encouraged!\nPlease arrive 10 minutes early\, park in the parking lot to the right and enter through the lower level side door (ground level and handicap accessible).\nBased on current Coastal Hospice COVID protocol\, masks will be required.\n\n  \nAdditional Caregiver Support Group: Please see EVENT calendar to register!Wicomico County Caregiver Support GroupFRIDAYS | September 16 – October 21  | 11-12 AM at the Community Foundation of the Eastern Shore.
URL:https://www.coastalhospice.org/events/caregiver-support-worcester/2022-09-19/
LOCATION:Macky & Pam Stansell House\, 1500 Ocean Parkway\, Berlin\, MD\, 21811\, United States
CATEGORIES:Support Group
ATTACH;FMTTYPE=image/jpeg:https://www.coastalhospice.org/wp-content/uploads/2022/08/Worcester-County-Caregiver-Support-Group-Sept22.jpg
END:VEVENT
BEGIN:VEVENT
DTSTART;TZID=America/New_York:20220919T160000
DTEND;TZID=America/New_York:20220919T170000
DTSTAMP:20260422T071713
CREATED:20220803T173505Z
LAST-MODIFIED:20241009T170009Z
UID:10001547-1663603200-1663606800@www.coastalhospice.org
SUMMARY:Bereavement Support Group – Worcester County
DESCRIPTION:6-Week GroupMONDAYS | SEPTEMBER 12 – OCTOBER 17 | 4:00 P.M. – 5:00 P.M. \nMacky & Pam Stansell House1500 Ocean Parkway\, Ocean Pines\, MD 21811Community Room (Ground Level) \nOpen to our Worcester County Community. \n\nWe request that you wait a minimum of 3 months after the death of loved one to attend.\nCommitment to attend all meetings is highly encouraged!\nPlease arrive 10 minutes early\, park in the parking lot to the right and enter through the lower level side door (ground level and handicap accessible).\nBased on current CFES COVID protocol\, masks will be required.\n\nRegistration is free\, but space is limited.To register\, only Name and Email are required. Please type “N/A” if fields are not applicable.If the registration button is no longer available\, that means all spots have been filled.If you would like to be added to the waiting list\, please email Cristina Puig-Lugo at CPuig-Lugo@coastalhospice.org or call 410-742-8732 ext. 334  \nADDITIONAL SUPPORT GROUPS: Please see EVENT calendar to register!Wicomico County Bereavement Support GroupFRIDAYS | September 16 – October 21  | 1-2 PM at the Community Foundation of the Eastern Shore. \nWicomico County SPANISH Bereavement Support GroupWEDNESDAYS | September 14 – October 19 | 4-5 PM at St. Francis de Sales.
URL:https://www.coastalhospice.org/events/bereavement-support-group-worcester/2022-09-19/
LOCATION:Macky & Pam Stansell House\, 1500 Ocean Parkway\, Berlin\, MD\, 21811\, United States
CATEGORIES:Support Group
ATTACH;FMTTYPE=image/jpeg:https://www.coastalhospice.org/wp-content/uploads/2022/08/Worcester-Bereavement-Support-Group-Sep.2022.jpg
END:VEVENT
BEGIN:VEVENT
DTSTART;TZID=America/New_York:20220923T130000
DTEND;TZID=America/New_York:20220923T140000
DTSTAMP:20260422T071713
CREATED:20220803T164223Z
LAST-MODIFIED:20220805T185743Z
UID:10001541-1663938000-1663941600@www.coastalhospice.org
SUMMARY:Bereavement Support Group - Wicomico County
DESCRIPTION:6-Week GroupFRIDAYS | SEPTEMBER 16 – OCTOBER 21 | 1:00 P.M. – 2:00 P.M. \nCommunity Foundation of the Eastern Shore1324 Belmont Ave.\, Suite 401\, Salisbury\, MDLarge Conference Room (1st Floor) \nOpen to our Wicomico County Community. \n\nWe request that you wait a minimum of 3 months after the death of loved one to attend.\nCommitment to attend all meetings is highly encouraged!\nPlease arrive 10 minutes early and enter through the main entrance (handicap accessible).\nBased on current CFES COVID protocol\, masks will be required.\n\nRegistration is free\, but space is limited.To register\, only Name and Email are required. Please type “N/A” if fields are not applicable.If the registration button is no longer available\, that means all spots have been filled.If you would like to be added to the waiting list\, please email Cristina Puig-Lugo at CPuig-Lugo@coastalhospice.org or call 410-742-8732 ext. 334 \nADDITIONAL SUPPORT GROUPS: Please see EVENT calendar to register!Worcester County Bereavement Support GroupMONDAYS | September 12 – October 17  | 4-5 PM at the Macky & Pam Stansell House. \nWicomico County SPANISH Bereavement Support GroupWEDNESDAYS | September 14 – October 19 | 4-5 PM at St. Francis de Sales.
URL:https://www.coastalhospice.org/events/bereavement-support-wicomico/2022-09-23/
LOCATION:Community Foundation of the Eastern Shore\, 1324 Belmont Avenue\, Ste. 401\, Salisbury\, MD\, 21804
CATEGORIES:Support Group
ATTACH;FMTTYPE=image/jpeg:https://www.coastalhospice.org/wp-content/uploads/2022/08/Wicomico-Bereavement-Support-Group-Sep.2022.jpg
END:VEVENT
BEGIN:VEVENT
DTSTART;TZID=America/New_York:20220926T130000
DTEND;TZID=America/New_York:20220926T140000
DTSTAMP:20260422T071713
CREATED:20220804T150932Z
LAST-MODIFIED:20241009T172942Z
UID:10001554-1664197200-1664200800@www.coastalhospice.org
SUMMARY:Caregiver Support Group - Worcester County
DESCRIPTION:6-Week Group: Open to our Worcester County Community\nMONDAYS | SEPTEMBER 12 – OCTOBER 17 | 1:00 P.M. – 2:00 P.M. \nMacky & Pam Stansell House1500 Ocean Parkway\, Ocean Pines\, MD 21811Community Room (Ground Level) \nRegistration is free\, but space is limited.To register\, only Name and Email are required. Please type “N/A” if fields are not applicable.If the registration button is no longer available\, that means all spots have been filled.If you would like to be added to the waiting list\, please email Cristina Puig-Lugo at CPuig-Lugo@coastalhospice.org or call 410-742-8732 ext. 334 \n\nCommitment to attend all meetings is highly encouraged!\nPlease arrive 10 minutes early\, park in the parking lot to the right and enter through the lower level side door (ground level and handicap accessible).\nBased on current Coastal Hospice COVID protocol\, masks will be required.\n\n  \nAdditional Caregiver Support Group: Please see EVENT calendar to register!Wicomico County Caregiver Support GroupFRIDAYS | September 16 – October 21  | 11-12 AM at the Community Foundation of the Eastern Shore.
URL:https://www.coastalhospice.org/events/caregiver-support-worcester/2022-09-26/
LOCATION:Macky & Pam Stansell House\, 1500 Ocean Parkway\, Berlin\, MD\, 21811\, United States
CATEGORIES:Support Group
ATTACH;FMTTYPE=image/jpeg:https://www.coastalhospice.org/wp-content/uploads/2022/08/Worcester-County-Caregiver-Support-Group-Sept22.jpg
END:VEVENT
BEGIN:VEVENT
DTSTART;TZID=America/New_York:20220926T160000
DTEND;TZID=America/New_York:20220926T170000
DTSTAMP:20260422T071713
CREATED:20220803T173505Z
LAST-MODIFIED:20241009T170009Z
UID:10001548-1664208000-1664211600@www.coastalhospice.org
SUMMARY:Bereavement Support Group – Worcester County
DESCRIPTION:6-Week GroupMONDAYS | SEPTEMBER 12 – OCTOBER 17 | 4:00 P.M. – 5:00 P.M. \nMacky & Pam Stansell House1500 Ocean Parkway\, Ocean Pines\, MD 21811Community Room (Ground Level) \nOpen to our Worcester County Community. \n\nWe request that you wait a minimum of 3 months after the death of loved one to attend.\nCommitment to attend all meetings is highly encouraged!\nPlease arrive 10 minutes early\, park in the parking lot to the right and enter through the lower level side door (ground level and handicap accessible).\nBased on current CFES COVID protocol\, masks will be required.\n\nRegistration is free\, but space is limited.To register\, only Name and Email are required. Please type “N/A” if fields are not applicable.If the registration button is no longer available\, that means all spots have been filled.If you would like to be added to the waiting list\, please email Cristina Puig-Lugo at CPuig-Lugo@coastalhospice.org or call 410-742-8732 ext. 334  \nADDITIONAL SUPPORT GROUPS: Please see EVENT calendar to register!Wicomico County Bereavement Support GroupFRIDAYS | September 16 – October 21  | 1-2 PM at the Community Foundation of the Eastern Shore. \nWicomico County SPANISH Bereavement Support GroupWEDNESDAYS | September 14 – October 19 | 4-5 PM at St. Francis de Sales.
URL:https://www.coastalhospice.org/events/bereavement-support-group-worcester/2022-09-26/
LOCATION:Macky & Pam Stansell House\, 1500 Ocean Parkway\, Berlin\, MD\, 21811\, United States
CATEGORIES:Support Group
ATTACH;FMTTYPE=image/jpeg:https://www.coastalhospice.org/wp-content/uploads/2022/08/Worcester-Bereavement-Support-Group-Sep.2022.jpg
END:VEVENT
BEGIN:VEVENT
DTSTART;TZID=America/New_York:20220929T120000
DTEND;TZID=America/New_York:20220929T130000
DTSTAMP:20260422T071713
CREATED:20220829T194232Z
LAST-MODIFIED:20220831T162557Z
UID:10001558-1664452800-1664456400@www.coastalhospice.org
SUMMARY:Is My Patient Ready for Hospice?
DESCRIPTION:FREE LIVE WEBINAR! In this live webinar\, Dr. Joan Carpenter will identify tools for prognostication to determine hospice eligibility and will discuss the importance of establishing goals of care for the patient. Join Dr. Carpenter as she shares timely information about hospice services and show strategies for having these conversations with providers and families. \nPRESENTER:Joan Carpenter\, PhD\, CRNP\, ACHPN\, FPCNAssistant Professor\, University of Maryland School of NursingHealth Scientist\, Philadelphia VAMCNurse Practitioner\, Coastal Hospice and Palliative Care \nMODERATOR: Lauren Blair | Provider & Community Relations Manager\, Coastal Hospice \nRegister Here
URL:https://www.coastalhospice.org/events/is-my-patient-ready-for-hospice/
CATEGORIES:Caregiver Academy
ATTACH;FMTTYPE=image/jpeg:https://www.coastalhospice.org/wp-content/uploads/2022/08/AdobeStock_315829613@2x.jpg
END:VEVENT
BEGIN:VEVENT
DTSTART;TZID=America/New_York:20220930T130000
DTEND;TZID=America/New_York:20220930T140000
DTSTAMP:20260422T071713
CREATED:20220803T164223Z
LAST-MODIFIED:20220805T185743Z
UID:10001542-1664542800-1664546400@www.coastalhospice.org
SUMMARY:Bereavement Support Group - Wicomico County
DESCRIPTION:6-Week GroupFRIDAYS | SEPTEMBER 16 – OCTOBER 21 | 1:00 P.M. – 2:00 P.M. \nCommunity Foundation of the Eastern Shore1324 Belmont Ave.\, Suite 401\, Salisbury\, MDLarge Conference Room (1st Floor) \nOpen to our Wicomico County Community. \n\nWe request that you wait a minimum of 3 months after the death of loved one to attend.\nCommitment to attend all meetings is highly encouraged!\nPlease arrive 10 minutes early and enter through the main entrance (handicap accessible).\nBased on current CFES COVID protocol\, masks will be required.\n\nRegistration is free\, but space is limited.To register\, only Name and Email are required. Please type “N/A” if fields are not applicable.If the registration button is no longer available\, that means all spots have been filled.If you would like to be added to the waiting list\, please email Cristina Puig-Lugo at CPuig-Lugo@coastalhospice.org or call 410-742-8732 ext. 334 \nADDITIONAL SUPPORT GROUPS: Please see EVENT calendar to register!Worcester County Bereavement Support GroupMONDAYS | September 12 – October 17  | 4-5 PM at the Macky & Pam Stansell House. \nWicomico County SPANISH Bereavement Support GroupWEDNESDAYS | September 14 – October 19 | 4-5 PM at St. Francis de Sales.
URL:https://www.coastalhospice.org/events/bereavement-support-wicomico/2022-09-30/
LOCATION:Community Foundation of the Eastern Shore\, 1324 Belmont Avenue\, Ste. 401\, Salisbury\, MD\, 21804
CATEGORIES:Support Group
ATTACH;FMTTYPE=image/jpeg:https://www.coastalhospice.org/wp-content/uploads/2022/08/Wicomico-Bereavement-Support-Group-Sep.2022.jpg
END:VEVENT
END:VCALENDAR