BEGIN:VCALENDAR
VERSION:2.0
PRODID:-//Coastal Hospice - ECPv6.10.2//NONSGML v1.0//EN
CALSCALE:GREGORIAN
METHOD:PUBLISH
X-WR-CALNAME:Coastal Hospice
X-ORIGINAL-URL:https://www.coastalhospice.org
X-WR-CALDESC:Events for Coastal Hospice
REFRESH-INTERVAL;VALUE=DURATION:PT1H
X-Robots-Tag:noindex
X-PUBLISHED-TTL:PT1H
BEGIN:VTIMEZONE
TZID:America/New_York
BEGIN:DAYLIGHT
TZOFFSETFROM:-0500
TZOFFSETTO:-0400
TZNAME:EDT
DTSTART:20260308T070000
END:DAYLIGHT
BEGIN:STANDARD
TZOFFSETFROM:-0400
TZOFFSETTO:-0500
TZNAME:EST
DTSTART:20261101T060000
END:STANDARD
END:VTIMEZONE
BEGIN:VEVENT
DTSTART;TZID=America/New_York:20261008T143000
DTEND;TZID=America/New_York:20261008T154500
DTSTAMP:20260422T151859
CREATED:20251212T172242Z
LAST-MODIFIED:20251212T172244Z
UID:10003480-1791469800-1791474300@www.coastalhospice.org
SUMMARY:Worcester County | Ongoing Grief Support Groups (Weekly) 2026
DESCRIPTION:We invite you to become a part of our ongoing grief support groups that occur weekly. Our groups are offered at no cost and open to all members who continue experiencing pain due to death\, whether or not Coastal Hospice supported you. Our goals are grief education\, emotional support\, and expanding your circle of connection and support.  \nWorcester County*\nThursdays | January – December\n2:30 PM – 3:45 PM\nOcean Pines Library\n11107 Cathell Road | Berlin\, Maryland  \n** For additional dates & times\, please see our Grief Support page.  \n*You will be notified by the Facilitator\, Nicole\, if the are any group cancelations.\nTo register\, please email Nicole Long\, Coastal Hospice Bereavement Counselor and Community Educator at nlong@coastalhospice.org or call 667.252.0255.\nIf leaving a message\, please state the grief support group you are interested in attending.\nFor more information about  support we offer\, please visit www.coastalhospice.org/grief-support 
URL:https://www.coastalhospice.org/events/worcester-county-ongoing-grief-support-groups-weekly-2026/2026-10-08/
LOCATION:Ocean Pines Library\, 11107 Cathell Road\, Berlin\, MD\, 21811\, United States
ATTACH;FMTTYPE=image/jpeg:https://www.coastalhospice.org/wp-content/uploads/2025/12/Worcester-2026-Ongoing-Grief-Support.jpg
ORGANIZER;CN="Nicole Long":MAILTO:nlong@coastalhospice.org
END:VEVENT
BEGIN:VEVENT
DTSTART;TZID=America/New_York:20261015T143000
DTEND;TZID=America/New_York:20261015T154500
DTSTAMP:20260422T151859
CREATED:20251212T172242Z
LAST-MODIFIED:20251212T172244Z
UID:10003481-1792074600-1792079100@www.coastalhospice.org
SUMMARY:Worcester County | Ongoing Grief Support Groups (Weekly) 2026
DESCRIPTION:We invite you to become a part of our ongoing grief support groups that occur weekly. Our groups are offered at no cost and open to all members who continue experiencing pain due to death\, whether or not Coastal Hospice supported you. Our goals are grief education\, emotional support\, and expanding your circle of connection and support.  \nWorcester County*\nThursdays | January – December\n2:30 PM – 3:45 PM\nOcean Pines Library\n11107 Cathell Road | Berlin\, Maryland  \n** For additional dates & times\, please see our Grief Support page.  \n*You will be notified by the Facilitator\, Nicole\, if the are any group cancelations.\nTo register\, please email Nicole Long\, Coastal Hospice Bereavement Counselor and Community Educator at nlong@coastalhospice.org or call 667.252.0255.\nIf leaving a message\, please state the grief support group you are interested in attending.\nFor more information about  support we offer\, please visit www.coastalhospice.org/grief-support 
URL:https://www.coastalhospice.org/events/worcester-county-ongoing-grief-support-groups-weekly-2026/2026-10-15/
LOCATION:Ocean Pines Library\, 11107 Cathell Road\, Berlin\, MD\, 21811\, United States
ATTACH;FMTTYPE=image/jpeg:https://www.coastalhospice.org/wp-content/uploads/2025/12/Worcester-2026-Ongoing-Grief-Support.jpg
ORGANIZER;CN="Nicole Long":MAILTO:nlong@coastalhospice.org
END:VEVENT
BEGIN:VEVENT
DTSTART;TZID=America/New_York:20261022T143000
DTEND;TZID=America/New_York:20261022T154500
DTSTAMP:20260422T151859
CREATED:20251212T172242Z
LAST-MODIFIED:20251212T172244Z
UID:10003482-1792679400-1792683900@www.coastalhospice.org
SUMMARY:Worcester County | Ongoing Grief Support Groups (Weekly) 2026
DESCRIPTION:We invite you to become a part of our ongoing grief support groups that occur weekly. Our groups are offered at no cost and open to all members who continue experiencing pain due to death\, whether or not Coastal Hospice supported you. Our goals are grief education\, emotional support\, and expanding your circle of connection and support.  \nWorcester County*\nThursdays | January – December\n2:30 PM – 3:45 PM\nOcean Pines Library\n11107 Cathell Road | Berlin\, Maryland  \n** For additional dates & times\, please see our Grief Support page.  \n*You will be notified by the Facilitator\, Nicole\, if the are any group cancelations.\nTo register\, please email Nicole Long\, Coastal Hospice Bereavement Counselor and Community Educator at nlong@coastalhospice.org or call 667.252.0255.\nIf leaving a message\, please state the grief support group you are interested in attending.\nFor more information about  support we offer\, please visit www.coastalhospice.org/grief-support 
URL:https://www.coastalhospice.org/events/worcester-county-ongoing-grief-support-groups-weekly-2026/2026-10-22/
LOCATION:Ocean Pines Library\, 11107 Cathell Road\, Berlin\, MD\, 21811\, United States
ATTACH;FMTTYPE=image/jpeg:https://www.coastalhospice.org/wp-content/uploads/2025/12/Worcester-2026-Ongoing-Grief-Support.jpg
ORGANIZER;CN="Nicole Long":MAILTO:nlong@coastalhospice.org
END:VEVENT
BEGIN:VEVENT
DTSTART;TZID=America/New_York:20261029T143000
DTEND;TZID=America/New_York:20261029T154500
DTSTAMP:20260422T151859
CREATED:20251212T172242Z
LAST-MODIFIED:20251212T172244Z
UID:10003483-1793284200-1793288700@www.coastalhospice.org
SUMMARY:Worcester County | Ongoing Grief Support Groups (Weekly) 2026
DESCRIPTION:We invite you to become a part of our ongoing grief support groups that occur weekly. Our groups are offered at no cost and open to all members who continue experiencing pain due to death\, whether or not Coastal Hospice supported you. Our goals are grief education\, emotional support\, and expanding your circle of connection and support.  \nWorcester County*\nThursdays | January – December\n2:30 PM – 3:45 PM\nOcean Pines Library\n11107 Cathell Road | Berlin\, Maryland  \n** For additional dates & times\, please see our Grief Support page.  \n*You will be notified by the Facilitator\, Nicole\, if the are any group cancelations.\nTo register\, please email Nicole Long\, Coastal Hospice Bereavement Counselor and Community Educator at nlong@coastalhospice.org or call 667.252.0255.\nIf leaving a message\, please state the grief support group you are interested in attending.\nFor more information about  support we offer\, please visit www.coastalhospice.org/grief-support 
URL:https://www.coastalhospice.org/events/worcester-county-ongoing-grief-support-groups-weekly-2026/2026-10-29/
LOCATION:Ocean Pines Library\, 11107 Cathell Road\, Berlin\, MD\, 21811\, United States
ATTACH;FMTTYPE=image/jpeg:https://www.coastalhospice.org/wp-content/uploads/2025/12/Worcester-2026-Ongoing-Grief-Support.jpg
ORGANIZER;CN="Nicole Long":MAILTO:nlong@coastalhospice.org
END:VEVENT
BEGIN:VEVENT
DTSTART;TZID=America/New_York:20261105T143000
DTEND;TZID=America/New_York:20261105T154500
DTSTAMP:20260422T151859
CREATED:20251212T172242Z
LAST-MODIFIED:20251212T172244Z
UID:10003484-1793889000-1793893500@www.coastalhospice.org
SUMMARY:Worcester County | Ongoing Grief Support Groups (Weekly) 2026
DESCRIPTION:We invite you to become a part of our ongoing grief support groups that occur weekly. Our groups are offered at no cost and open to all members who continue experiencing pain due to death\, whether or not Coastal Hospice supported you. Our goals are grief education\, emotional support\, and expanding your circle of connection and support.  \nWorcester County*\nThursdays | January – December\n2:30 PM – 3:45 PM\nOcean Pines Library\n11107 Cathell Road | Berlin\, Maryland  \n** For additional dates & times\, please see our Grief Support page.  \n*You will be notified by the Facilitator\, Nicole\, if the are any group cancelations.\nTo register\, please email Nicole Long\, Coastal Hospice Bereavement Counselor and Community Educator at nlong@coastalhospice.org or call 667.252.0255.\nIf leaving a message\, please state the grief support group you are interested in attending.\nFor more information about  support we offer\, please visit www.coastalhospice.org/grief-support 
URL:https://www.coastalhospice.org/events/worcester-county-ongoing-grief-support-groups-weekly-2026/2026-11-05/
LOCATION:Ocean Pines Library\, 11107 Cathell Road\, Berlin\, MD\, 21811\, United States
ATTACH;FMTTYPE=image/jpeg:https://www.coastalhospice.org/wp-content/uploads/2025/12/Worcester-2026-Ongoing-Grief-Support.jpg
ORGANIZER;CN="Nicole Long":MAILTO:nlong@coastalhospice.org
END:VEVENT
BEGIN:VEVENT
DTSTART;TZID=America/New_York:20261112T143000
DTEND;TZID=America/New_York:20261112T154500
DTSTAMP:20260422T151859
CREATED:20251212T172242Z
LAST-MODIFIED:20251212T172244Z
UID:10003485-1794493800-1794498300@www.coastalhospice.org
SUMMARY:Worcester County | Ongoing Grief Support Groups (Weekly) 2026
DESCRIPTION:We invite you to become a part of our ongoing grief support groups that occur weekly. Our groups are offered at no cost and open to all members who continue experiencing pain due to death\, whether or not Coastal Hospice supported you. Our goals are grief education\, emotional support\, and expanding your circle of connection and support.  \nWorcester County*\nThursdays | January – December\n2:30 PM – 3:45 PM\nOcean Pines Library\n11107 Cathell Road | Berlin\, Maryland  \n** For additional dates & times\, please see our Grief Support page.  \n*You will be notified by the Facilitator\, Nicole\, if the are any group cancelations.\nTo register\, please email Nicole Long\, Coastal Hospice Bereavement Counselor and Community Educator at nlong@coastalhospice.org or call 667.252.0255.\nIf leaving a message\, please state the grief support group you are interested in attending.\nFor more information about  support we offer\, please visit www.coastalhospice.org/grief-support 
URL:https://www.coastalhospice.org/events/worcester-county-ongoing-grief-support-groups-weekly-2026/2026-11-12/
LOCATION:Ocean Pines Library\, 11107 Cathell Road\, Berlin\, MD\, 21811\, United States
ATTACH;FMTTYPE=image/jpeg:https://www.coastalhospice.org/wp-content/uploads/2025/12/Worcester-2026-Ongoing-Grief-Support.jpg
ORGANIZER;CN="Nicole Long":MAILTO:nlong@coastalhospice.org
END:VEVENT
BEGIN:VEVENT
DTSTART;TZID=America/New_York:20261119T143000
DTEND;TZID=America/New_York:20261119T154500
DTSTAMP:20260422T151859
CREATED:20251212T172242Z
LAST-MODIFIED:20251212T172244Z
UID:10003486-1795098600-1795103100@www.coastalhospice.org
SUMMARY:Worcester County | Ongoing Grief Support Groups (Weekly) 2026
DESCRIPTION:We invite you to become a part of our ongoing grief support groups that occur weekly. Our groups are offered at no cost and open to all members who continue experiencing pain due to death\, whether or not Coastal Hospice supported you. Our goals are grief education\, emotional support\, and expanding your circle of connection and support.  \nWorcester County*\nThursdays | January – December\n2:30 PM – 3:45 PM\nOcean Pines Library\n11107 Cathell Road | Berlin\, Maryland  \n** For additional dates & times\, please see our Grief Support page.  \n*You will be notified by the Facilitator\, Nicole\, if the are any group cancelations.\nTo register\, please email Nicole Long\, Coastal Hospice Bereavement Counselor and Community Educator at nlong@coastalhospice.org or call 667.252.0255.\nIf leaving a message\, please state the grief support group you are interested in attending.\nFor more information about  support we offer\, please visit www.coastalhospice.org/grief-support 
URL:https://www.coastalhospice.org/events/worcester-county-ongoing-grief-support-groups-weekly-2026/2026-11-19/
LOCATION:Ocean Pines Library\, 11107 Cathell Road\, Berlin\, MD\, 21811\, United States
ATTACH;FMTTYPE=image/jpeg:https://www.coastalhospice.org/wp-content/uploads/2025/12/Worcester-2026-Ongoing-Grief-Support.jpg
ORGANIZER;CN="Nicole Long":MAILTO:nlong@coastalhospice.org
END:VEVENT
BEGIN:VEVENT
DTSTART;TZID=America/New_York:20261126T143000
DTEND;TZID=America/New_York:20261126T154500
DTSTAMP:20260422T151900
CREATED:20251212T172242Z
LAST-MODIFIED:20251212T172244Z
UID:10003487-1795703400-1795707900@www.coastalhospice.org
SUMMARY:Worcester County | Ongoing Grief Support Groups (Weekly) 2026
DESCRIPTION:We invite you to become a part of our ongoing grief support groups that occur weekly. Our groups are offered at no cost and open to all members who continue experiencing pain due to death\, whether or not Coastal Hospice supported you. Our goals are grief education\, emotional support\, and expanding your circle of connection and support.  \nWorcester County*\nThursdays | January – December\n2:30 PM – 3:45 PM\nOcean Pines Library\n11107 Cathell Road | Berlin\, Maryland  \n** For additional dates & times\, please see our Grief Support page.  \n*You will be notified by the Facilitator\, Nicole\, if the are any group cancelations.\nTo register\, please email Nicole Long\, Coastal Hospice Bereavement Counselor and Community Educator at nlong@coastalhospice.org or call 667.252.0255.\nIf leaving a message\, please state the grief support group you are interested in attending.\nFor more information about  support we offer\, please visit www.coastalhospice.org/grief-support 
URL:https://www.coastalhospice.org/events/worcester-county-ongoing-grief-support-groups-weekly-2026/2026-11-26/
LOCATION:Ocean Pines Library\, 11107 Cathell Road\, Berlin\, MD\, 21811\, United States
ATTACH;FMTTYPE=image/jpeg:https://www.coastalhospice.org/wp-content/uploads/2025/12/Worcester-2026-Ongoing-Grief-Support.jpg
ORGANIZER;CN="Nicole Long":MAILTO:nlong@coastalhospice.org
END:VEVENT
BEGIN:VEVENT
DTSTART;TZID=America/New_York:20261203T143000
DTEND;TZID=America/New_York:20261203T154500
DTSTAMP:20260422T151900
CREATED:20251212T172242Z
LAST-MODIFIED:20251212T172244Z
UID:10003488-1796308200-1796312700@www.coastalhospice.org
SUMMARY:Worcester County | Ongoing Grief Support Groups (Weekly) 2026
DESCRIPTION:We invite you to become a part of our ongoing grief support groups that occur weekly. Our groups are offered at no cost and open to all members who continue experiencing pain due to death\, whether or not Coastal Hospice supported you. Our goals are grief education\, emotional support\, and expanding your circle of connection and support.  \nWorcester County*\nThursdays | January – December\n2:30 PM – 3:45 PM\nOcean Pines Library\n11107 Cathell Road | Berlin\, Maryland  \n** For additional dates & times\, please see our Grief Support page.  \n*You will be notified by the Facilitator\, Nicole\, if the are any group cancelations.\nTo register\, please email Nicole Long\, Coastal Hospice Bereavement Counselor and Community Educator at nlong@coastalhospice.org or call 667.252.0255.\nIf leaving a message\, please state the grief support group you are interested in attending.\nFor more information about  support we offer\, please visit www.coastalhospice.org/grief-support 
URL:https://www.coastalhospice.org/events/worcester-county-ongoing-grief-support-groups-weekly-2026/2026-12-03/
LOCATION:Ocean Pines Library\, 11107 Cathell Road\, Berlin\, MD\, 21811\, United States
ATTACH;FMTTYPE=image/jpeg:https://www.coastalhospice.org/wp-content/uploads/2025/12/Worcester-2026-Ongoing-Grief-Support.jpg
ORGANIZER;CN="Nicole Long":MAILTO:nlong@coastalhospice.org
END:VEVENT
BEGIN:VEVENT
DTSTART;TZID=America/New_York:20261210T143000
DTEND;TZID=America/New_York:20261210T154500
DTSTAMP:20260422T151900
CREATED:20251212T172242Z
LAST-MODIFIED:20251212T172244Z
UID:10003489-1796913000-1796917500@www.coastalhospice.org
SUMMARY:Worcester County | Ongoing Grief Support Groups (Weekly) 2026
DESCRIPTION:We invite you to become a part of our ongoing grief support groups that occur weekly. Our groups are offered at no cost and open to all members who continue experiencing pain due to death\, whether or not Coastal Hospice supported you. Our goals are grief education\, emotional support\, and expanding your circle of connection and support.  \nWorcester County*\nThursdays | January – December\n2:30 PM – 3:45 PM\nOcean Pines Library\n11107 Cathell Road | Berlin\, Maryland  \n** For additional dates & times\, please see our Grief Support page.  \n*You will be notified by the Facilitator\, Nicole\, if the are any group cancelations.\nTo register\, please email Nicole Long\, Coastal Hospice Bereavement Counselor and Community Educator at nlong@coastalhospice.org or call 667.252.0255.\nIf leaving a message\, please state the grief support group you are interested in attending.\nFor more information about  support we offer\, please visit www.coastalhospice.org/grief-support 
URL:https://www.coastalhospice.org/events/worcester-county-ongoing-grief-support-groups-weekly-2026/2026-12-10/
LOCATION:Ocean Pines Library\, 11107 Cathell Road\, Berlin\, MD\, 21811\, United States
ATTACH;FMTTYPE=image/jpeg:https://www.coastalhospice.org/wp-content/uploads/2025/12/Worcester-2026-Ongoing-Grief-Support.jpg
ORGANIZER;CN="Nicole Long":MAILTO:nlong@coastalhospice.org
END:VEVENT
BEGIN:VEVENT
DTSTART;TZID=America/New_York:20261217T143000
DTEND;TZID=America/New_York:20261217T154500
DTSTAMP:20260422T151900
CREATED:20251212T172242Z
LAST-MODIFIED:20251212T172244Z
UID:10003490-1797517800-1797522300@www.coastalhospice.org
SUMMARY:Worcester County | Ongoing Grief Support Groups (Weekly) 2026
DESCRIPTION:We invite you to become a part of our ongoing grief support groups that occur weekly. Our groups are offered at no cost and open to all members who continue experiencing pain due to death\, whether or not Coastal Hospice supported you. Our goals are grief education\, emotional support\, and expanding your circle of connection and support.  \nWorcester County*\nThursdays | January – December\n2:30 PM – 3:45 PM\nOcean Pines Library\n11107 Cathell Road | Berlin\, Maryland  \n** For additional dates & times\, please see our Grief Support page.  \n*You will be notified by the Facilitator\, Nicole\, if the are any group cancelations.\nTo register\, please email Nicole Long\, Coastal Hospice Bereavement Counselor and Community Educator at nlong@coastalhospice.org or call 667.252.0255.\nIf leaving a message\, please state the grief support group you are interested in attending.\nFor more information about  support we offer\, please visit www.coastalhospice.org/grief-support 
URL:https://www.coastalhospice.org/events/worcester-county-ongoing-grief-support-groups-weekly-2026/2026-12-17/
LOCATION:Ocean Pines Library\, 11107 Cathell Road\, Berlin\, MD\, 21811\, United States
ATTACH;FMTTYPE=image/jpeg:https://www.coastalhospice.org/wp-content/uploads/2025/12/Worcester-2026-Ongoing-Grief-Support.jpg
ORGANIZER;CN="Nicole Long":MAILTO:nlong@coastalhospice.org
END:VEVENT
BEGIN:VEVENT
DTSTART;TZID=America/New_York:20261224T143000
DTEND;TZID=America/New_York:20261224T154500
DTSTAMP:20260422T151900
CREATED:20251212T172242Z
LAST-MODIFIED:20251212T172244Z
UID:10003491-1798122600-1798127100@www.coastalhospice.org
SUMMARY:Worcester County | Ongoing Grief Support Groups (Weekly) 2026
DESCRIPTION:We invite you to become a part of our ongoing grief support groups that occur weekly. Our groups are offered at no cost and open to all members who continue experiencing pain due to death\, whether or not Coastal Hospice supported you. Our goals are grief education\, emotional support\, and expanding your circle of connection and support.  \nWorcester County*\nThursdays | January – December\n2:30 PM – 3:45 PM\nOcean Pines Library\n11107 Cathell Road | Berlin\, Maryland  \n** For additional dates & times\, please see our Grief Support page.  \n*You will be notified by the Facilitator\, Nicole\, if the are any group cancelations.\nTo register\, please email Nicole Long\, Coastal Hospice Bereavement Counselor and Community Educator at nlong@coastalhospice.org or call 667.252.0255.\nIf leaving a message\, please state the grief support group you are interested in attending.\nFor more information about  support we offer\, please visit www.coastalhospice.org/grief-support 
URL:https://www.coastalhospice.org/events/worcester-county-ongoing-grief-support-groups-weekly-2026/2026-12-24/
LOCATION:Ocean Pines Library\, 11107 Cathell Road\, Berlin\, MD\, 21811\, United States
ATTACH;FMTTYPE=image/jpeg:https://www.coastalhospice.org/wp-content/uploads/2025/12/Worcester-2026-Ongoing-Grief-Support.jpg
ORGANIZER;CN="Nicole Long":MAILTO:nlong@coastalhospice.org
END:VEVENT
BEGIN:VEVENT
DTSTART;TZID=America/New_York:20261231T143000
DTEND;TZID=America/New_York:20261231T154500
DTSTAMP:20260422T151900
CREATED:20251212T172242Z
LAST-MODIFIED:20251212T172244Z
UID:10003492-1798727400-1798731900@www.coastalhospice.org
SUMMARY:Worcester County | Ongoing Grief Support Groups (Weekly) 2026
DESCRIPTION:We invite you to become a part of our ongoing grief support groups that occur weekly. Our groups are offered at no cost and open to all members who continue experiencing pain due to death\, whether or not Coastal Hospice supported you. Our goals are grief education\, emotional support\, and expanding your circle of connection and support.  \nWorcester County*\nThursdays | January – December\n2:30 PM – 3:45 PM\nOcean Pines Library\n11107 Cathell Road | Berlin\, Maryland  \n** For additional dates & times\, please see our Grief Support page.  \n*You will be notified by the Facilitator\, Nicole\, if the are any group cancelations.\nTo register\, please email Nicole Long\, Coastal Hospice Bereavement Counselor and Community Educator at nlong@coastalhospice.org or call 667.252.0255.\nIf leaving a message\, please state the grief support group you are interested in attending.\nFor more information about  support we offer\, please visit www.coastalhospice.org/grief-support 
URL:https://www.coastalhospice.org/events/worcester-county-ongoing-grief-support-groups-weekly-2026/2026-12-31/
LOCATION:Ocean Pines Library\, 11107 Cathell Road\, Berlin\, MD\, 21811\, United States
ATTACH;FMTTYPE=image/jpeg:https://www.coastalhospice.org/wp-content/uploads/2025/12/Worcester-2026-Ongoing-Grief-Support.jpg
ORGANIZER;CN="Nicole Long":MAILTO:nlong@coastalhospice.org
END:VEVENT
END:VCALENDAR