BEGIN:VCALENDAR
VERSION:2.0
PRODID:-//Coastal Hospice - ECPv6.10.2//NONSGML v1.0//EN
CALSCALE:GREGORIAN
METHOD:PUBLISH
X-ORIGINAL-URL:https://www.coastalhospice.org
X-WR-CALDESC:Events for Coastal Hospice
REFRESH-INTERVAL;VALUE=DURATION:PT1H
X-Robots-Tag:noindex
X-PUBLISHED-TTL:PT1H
BEGIN:VTIMEZONE
TZID:America/New_York
BEGIN:DAYLIGHT
TZOFFSETFROM:-0500
TZOFFSETTO:-0400
TZNAME:EDT
DTSTART:20220313T070000
END:DAYLIGHT
BEGIN:STANDARD
TZOFFSETFROM:-0400
TZOFFSETTO:-0500
TZNAME:EST
DTSTART:20221106T060000
END:STANDARD
END:VTIMEZONE
BEGIN:VEVENT
DTSTART;TZID=America/New_York:20220613T100000
DTEND;TZID=America/New_York:20220613T110000
DTSTAMP:20260422T145229
CREATED:20220525T215323Z
LAST-MODIFIED:20220624T163311Z
UID:10001533-1655114400-1655118000@www.coastalhospice.org
SUMMARY:Dorchester County Memorial Gathering
DESCRIPTION:Coastal Hospice invites you and your family to honor the life of your loved one by attending a Dorchester County Memorial Gathering on the lower floor of the Dorchester Visitor Center at Sailwinds Park. There will be a Shell Ceremony outside at the river (weather permitting). \nMONDAY\, JUNE 132:00 – 3:00 PM\nDorchester Visitor Center at Sailwinds Park (Lower Floor)2 Rose Hill Place\, Cambridge\, MD \nRegistration is FREE!50 Persons LimitAll entrances are handicap accessibleMasks Required Indoors \nTO RESERVE A SPACE\, PLEASE RSVP BELOW!To register\, only Name and Email are required. Please type “N/A” if fields are not applicable. \nWe look forward to seeing you and sharing together this time of remembrance. \nFor more information contact Alvin Harmon ataharmon@coastalhospice.org or 410-742-8732 ext. 440
URL:https://www.coastalhospice.org/events/dorchester-county-memorial-gathering/
LOCATION:2 Rosehill Place\, Cambridge\, MD\, 2 Rosehill Place\, Cambridge\, 21613\, United States
CATEGORIES:Memorial Gathering
ATTACH;FMTTYPE=image/jpeg:https://www.coastalhospice.org/wp-content/uploads/2022/05/Dorchester-Memorial-Gathering-2.jpg
END:VEVENT
BEGIN:VEVENT
DTSTART;TZID=America/New_York:20220613T130000
DTEND;TZID=America/New_York:20220613T140000
DTSTAMP:20260422T145230
CREATED:20220506T200357Z
LAST-MODIFIED:20241009T175743Z
UID:10001527-1655125200-1655128800@www.coastalhospice.org
SUMMARY:Bereavement Support Group - Worcester County
DESCRIPTION:6 Week Group\nMONDAYS | JUNE 6 – JULY 18 \n(no meeting on July 4)\n5:00 P.M. – 6:00 P.M.  \nMacky & Pam Stansell House\n1500 Ocean Parkway\, Ocean Pines\, MD\nCommunity Room (Ground Level)  \nOpen to our Worcester County Community\nWe request that you wait a minimum of 3 months after the death of loved one to attend. \nRegistration is free\, but space is limited.\nPre-registration and commitment to attend the six meetings are required.\nIf full\, please email Cristina Puig-Lugo to be added to a waitlist or call 410-742-8732 ext. 334 \nPlease arrive 15 minutes early\, park in the parking lot to the right and enter through the side entrance – ground level.\nBased on current Coastal Hospice COVID protocol\, masks will be required.  \nWe are also hosting a Bereavement Support Group for Wicomico County on Fridays| June 10 – July 22 at the  MAC Inc.\, Area Agency on Aging (No Meeting on June 24). Please see EVENT calendar to register.
URL:https://www.coastalhospice.org/events/support-group-worcester/2022-06-13/
LOCATION:Stansell House\, 1500 Ocean Pkwy\, Ocean Pines\, MD\, 21811\, United States
CATEGORIES:Support Group
ATTACH;FMTTYPE=image/jpeg:https://www.coastalhospice.org/wp-content/uploads/2022/05/iStock-178169056-900x900-1.jpg
END:VEVENT
BEGIN:VEVENT
DTSTART;TZID=America/New_York:20220617T080000
DTEND;TZID=America/New_York:20220617T090000
DTSTAMP:20260422T145230
CREATED:20220504T223542Z
LAST-MODIFIED:20241009T175642Z
UID:10001521-1655452800-1655456400@www.coastalhospice.org
SUMMARY:Bereavement Support Group - Wicomico County
DESCRIPTION:6 Week Group FRIDAYS | JUNE 10 – JULY 22  (no meeting on June 24) 12:00 P.M. – 1:00 P.M.  \nMAC Inc.\, Area Agency on Aging 909 Progress Circle\, Salisbury\, MD (Peninsula Regional Room)  \nOpen to our Wicomico County Community.\nWe request that you wait a minimum of 3 months after the death of loved one to attend. \nRegistration is free\, but space is limited.\nPre-registration and commitment to attend the six meetings are required.\nIf full\, please email Cristina Puig-Lugo to be added to a waitlist or call 410-742-8732 ext. 334 \nPlease arrive 15 minutes early\, park in the parking lot and enter through the main entrance.\nMasks may be required based on current MAC\, Inc. COVID protocol. \nWe are also hosting a Bereavement Support Group for Worcester County on Mondays | June 6 – July 18 at the Macky & Pam Stansell House (No Meeting on July 4). Please see EVENT calendar to register.
URL:https://www.coastalhospice.org/events/support-group-wicomico/2022-06-17/
LOCATION:The MAC Center\, 909 Progress Circle\, Linthicum Heights\, MD\, 21090\, United States
CATEGORIES:Support Group
ATTACH;FMTTYPE=image/jpeg:https://www.coastalhospice.org/wp-content/uploads/2022/05/supportgroup.jpg
END:VEVENT
END:VCALENDAR