BEGIN:VCALENDAR
VERSION:2.0
PRODID:-//Coastal Hospice - ECPv6.10.2//NONSGML v1.0//EN
CALSCALE:GREGORIAN
METHOD:PUBLISH
X-ORIGINAL-URL:https://www.coastalhospice.org
X-WR-CALDESC:Events for Coastal Hospice
REFRESH-INTERVAL;VALUE=DURATION:PT1H
X-Robots-Tag:noindex
X-PUBLISHED-TTL:PT1H
BEGIN:VTIMEZONE
TZID:America/New_York
BEGIN:DAYLIGHT
TZOFFSETFROM:-0500
TZOFFSETTO:-0400
TZNAME:EDT
DTSTART:20220313T070000
END:DAYLIGHT
BEGIN:STANDARD
TZOFFSETFROM:-0400
TZOFFSETTO:-0500
TZNAME:EST
DTSTART:20221106T060000
END:STANDARD
END:VTIMEZONE
BEGIN:VEVENT
DTSTART;TZID=America/New_York:20220620T130000
DTEND;TZID=America/New_York:20220620T140000
DTSTAMP:20260422T132819
CREATED:20220506T200357Z
LAST-MODIFIED:20241009T175743Z
UID:10001528-1655730000-1655733600@www.coastalhospice.org
SUMMARY:Bereavement Support Group - Worcester County
DESCRIPTION:6 Week Group\nMONDAYS | JUNE 6 – JULY 18 \n(no meeting on July 4)\n5:00 P.M. – 6:00 P.M.  \nMacky & Pam Stansell House\n1500 Ocean Parkway\, Ocean Pines\, MD\nCommunity Room (Ground Level)  \nOpen to our Worcester County Community\nWe request that you wait a minimum of 3 months after the death of loved one to attend. \nRegistration is free\, but space is limited.\nPre-registration and commitment to attend the six meetings are required.\nIf full\, please email Cristina Puig-Lugo to be added to a waitlist or call 410-742-8732 ext. 334 \nPlease arrive 15 minutes early\, park in the parking lot to the right and enter through the side entrance – ground level.\nBased on current Coastal Hospice COVID protocol\, masks will be required.  \nWe are also hosting a Bereavement Support Group for Wicomico County on Fridays| June 10 – July 22 at the  MAC Inc.\, Area Agency on Aging (No Meeting on June 24). Please see EVENT calendar to register.
URL:https://www.coastalhospice.org/events/support-group-worcester/2022-06-20/
LOCATION:Stansell House\, 1500 Ocean Pkwy\, Ocean Pines\, MD\, 21811\, United States
CATEGORIES:Support Group
ATTACH;FMTTYPE=image/jpeg:https://www.coastalhospice.org/wp-content/uploads/2022/05/iStock-178169056-900x900-1.jpg
END:VEVENT
END:VCALENDAR