BEGIN:VCALENDAR
VERSION:2.0
PRODID:-//Coastal Hospice - ECPv6.10.2//NONSGML v1.0//EN
CALSCALE:GREGORIAN
METHOD:PUBLISH
X-ORIGINAL-URL:https://www.coastalhospice.org
X-WR-CALDESC:Events for Coastal Hospice
REFRESH-INTERVAL;VALUE=DURATION:PT1H
X-Robots-Tag:noindex
X-PUBLISHED-TTL:PT1H
BEGIN:VTIMEZONE
TZID:America/New_York
BEGIN:DAYLIGHT
TZOFFSETFROM:-0500
TZOFFSETTO:-0400
TZNAME:EDT
DTSTART:20220313T070000
END:DAYLIGHT
BEGIN:STANDARD
TZOFFSETFROM:-0400
TZOFFSETTO:-0500
TZNAME:EST
DTSTART:20221106T060000
END:STANDARD
END:VTIMEZONE
BEGIN:VEVENT
DTSTART;TZID=America/New_York:20220627T130000
DTEND;TZID=America/New_York:20220627T140000
DTSTAMP:20260422T145213
CREATED:20220506T200357Z
LAST-MODIFIED:20241009T175743Z
UID:10001529-1656334800-1656338400@www.coastalhospice.org
SUMMARY:Bereavement Support Group - Worcester County
DESCRIPTION:6 Week Group\nMONDAYS | JUNE 6 – JULY 18 \n(no meeting on July 4)\n5:00 P.M. – 6:00 P.M.  \nMacky & Pam Stansell House\n1500 Ocean Parkway\, Ocean Pines\, MD\nCommunity Room (Ground Level)  \nOpen to our Worcester County Community\nWe request that you wait a minimum of 3 months after the death of loved one to attend. \nRegistration is free\, but space is limited.\nPre-registration and commitment to attend the six meetings are required.\nIf full\, please email Cristina Puig-Lugo to be added to a waitlist or call 410-742-8732 ext. 334 \nPlease arrive 15 minutes early\, park in the parking lot to the right and enter through the side entrance – ground level.\nBased on current Coastal Hospice COVID protocol\, masks will be required.  \nWe are also hosting a Bereavement Support Group for Wicomico County on Fridays| June 10 – July 22 at the  MAC Inc.\, Area Agency on Aging (No Meeting on June 24). Please see EVENT calendar to register.
URL:https://www.coastalhospice.org/events/support-group-worcester/2022-06-27/
LOCATION:Stansell House\, 1500 Ocean Pkwy\, Ocean Pines\, MD\, 21811\, United States
CATEGORIES:Support Group
ATTACH;FMTTYPE=image/jpeg:https://www.coastalhospice.org/wp-content/uploads/2022/05/iStock-178169056-900x900-1.jpg
END:VEVENT
BEGIN:VEVENT
DTSTART;TZID=America/New_York:20220627T140000
DTEND;TZID=America/New_York:20220630T130000
DTSTAMP:20260422T145213
CREATED:20220518T212618Z
LAST-MODIFIED:20220519T192536Z
UID:10001532-1656338400-1656594000@www.coastalhospice.org
SUMMARY:Camp Safe Harbor
DESCRIPTION:Camp Safe Harbor is a summer day camp open to children ages 6 to 12\, who have experienced a\nprimary loss in their life…the death of a parent\, grandparent\, sibling or other closely connected person.\nThe camp offers a safe place for these children to express their grief\, to explore the many emotions that accompany the death of someone close\, and to learn age-appropriate coping skills that will assist them on their grief journey. Camp Safe Harbor is hosted through a partnership between Coastal Hospice and Salisbury University and will be held on the University’s campus. \nLimited to 30 Children\nFor more information or to reserve a spot for your child\, call 410-742-8732 ext. 619\nThe camp begins with a family event on Monday evening\, June 27\, 2022 and is followed by three days (June 28-30) filled with fun and activities for the campers. Lunch provided daily! Each child will receive a t-shirt\, water bottle\, drawstring tote bag\, and supplies for all activities. \nSchedule:\nLocation: Salisbury University\, Conway Hall\, Route 13 Salisbury\, MD\nOpening Night Family Party: Monday\, June 27\, 6:00 p.m.\nCamp Days: Tuesday\, June 28 – Thursday\, June 30\, 8:30 a.m. – 4:00 p.m.\nFamily Closing Ceremony – A Time to Remember: Thursday\, June 30\, 4:00 p.m. – 5:00 p.m. \nFun Activities Include: \n\nOpening Night Family Ice Cream Party\nWeight Room Activity\nWater Balloon Volleyball\nSand Art\nGoofy Games\nMovie & Popcorn\nDodgeball\nNewsroom Experience\nPlay Therapy\nSilly Sing-A-Longs\nArts & Crafts\nButterfly Release
URL:https://www.coastalhospice.org/events/camp-safe-harbor/
LOCATION:Salisbury University\, Conway Hall\, Route 13 Salisbury\, MD
ATTACH;FMTTYPE=image/png:https://www.coastalhospice.org/wp-content/uploads/2022/05/CampSafeHarborLogo_Color-2-Transparent.png
END:VEVENT
BEGIN:VEVENT
DTSTART;TZID=America/New_York:20220630T120000
DTEND;TZID=America/New_York:20220630T130000
DTSTAMP:20260422T145213
CREATED:20220601T175912Z
LAST-MODIFIED:20220630T152019Z
UID:10001534-1656590400-1656594000@www.coastalhospice.org
SUMMARY:The Long Goodbye - Understanding Anticipatory Grief Associated with Alzheimer's Disease and other Dementias
DESCRIPTION:12:00 PM – 1:00 PM\nFREE LIVE WEBINAR!In the frame of Alzheimer’s and Brain Awareness Month\, Alvin T. Harmon\, our Bereavement Care Services & Compass Program Manager brings to you his live keynote presentation: The Long Goodbye\, Understanding Anticipatory Grief Associated with Caregivers of Patients with Alzheimer’s Disease and Other Dementias. \n“You don’t know why you burst into tears when others ask how your loved-one is doing. The shock is still overwhelming. The pain is still real. You have no idea when you first noticed it but the person you love has somehow managed to slip away. The most difficult part is that they’re still standing right in front of you. You want to be caring. You want to do and say all the “right” things. But in reality\, what you feel is that it just isn’t fair. You try to count yourself lucky for each day\, month or year that you have with them\, but as each one passes\, your hope for the future\, the works of the past and the joys of all those created memories are now being viewed by an audience of one. What you might not understand is that your grieving process may have already begun.” \nMODERATOR:Lauren Blair | Provider & Community Relations Manager\, Coastal Hospice \nFEATURING:Alvin T. Harmon\, CBCP\, CEOLD | Bereavement Care Services & Compass Program Manager\, Coastal Hospice
URL:https://www.coastalhospice.org/events/the-long-goodbye/
LOCATION:https://us02web.zoom.us/j/85201448300
CATEGORIES:Caregiver Academy
ATTACH;FMTTYPE=image/jpeg:https://www.coastalhospice.org/wp-content/uploads/2022/06/AdobeStock_9168647@2x.jpg
ORGANIZER;CN="Caregiver Academy":MAILTO:caregiveracademy@coastalhospice.org
END:VEVENT
BEGIN:VEVENT
DTSTART;TZID=America/New_York:20220701T080000
DTEND;TZID=America/New_York:20220701T090000
DTSTAMP:20260422T145213
CREATED:20220504T223542Z
LAST-MODIFIED:20241009T175642Z
UID:10001522-1656662400-1656666000@www.coastalhospice.org
SUMMARY:Bereavement Support Group - Wicomico County
DESCRIPTION:6 Week Group FRIDAYS | JUNE 10 – JULY 22  (no meeting on June 24) 12:00 P.M. – 1:00 P.M.  \nMAC Inc.\, Area Agency on Aging 909 Progress Circle\, Salisbury\, MD (Peninsula Regional Room)  \nOpen to our Wicomico County Community.\nWe request that you wait a minimum of 3 months after the death of loved one to attend. \nRegistration is free\, but space is limited.\nPre-registration and commitment to attend the six meetings are required.\nIf full\, please email Cristina Puig-Lugo to be added to a waitlist or call 410-742-8732 ext. 334 \nPlease arrive 15 minutes early\, park in the parking lot and enter through the main entrance.\nMasks may be required based on current MAC\, Inc. COVID protocol. \nWe are also hosting a Bereavement Support Group for Worcester County on Mondays | June 6 – July 18 at the Macky & Pam Stansell House (No Meeting on July 4). Please see EVENT calendar to register.
URL:https://www.coastalhospice.org/events/support-group-wicomico/2022-07-01/
LOCATION:The MAC Center\, 909 Progress Circle\, Linthicum Heights\, MD\, 21090\, United States
CATEGORIES:Support Group
ATTACH;FMTTYPE=image/jpeg:https://www.coastalhospice.org/wp-content/uploads/2022/05/supportgroup.jpg
END:VEVENT
END:VCALENDAR