BEGIN:VCALENDAR
VERSION:2.0
PRODID:-//Coastal Hospice - ECPv6.10.2//NONSGML v1.0//EN
CALSCALE:GREGORIAN
METHOD:PUBLISH
X-WR-CALNAME:Coastal Hospice
X-ORIGINAL-URL:https://www.coastalhospice.org
X-WR-CALDESC:Events for Coastal Hospice
REFRESH-INTERVAL;VALUE=DURATION:PT1H
X-Robots-Tag:noindex
X-PUBLISHED-TTL:PT1H
BEGIN:VTIMEZONE
TZID:America/New_York
BEGIN:DAYLIGHT
TZOFFSETFROM:-0500
TZOFFSETTO:-0400
TZNAME:EDT
DTSTART:20220313T070000
END:DAYLIGHT
BEGIN:STANDARD
TZOFFSETFROM:-0400
TZOFFSETTO:-0500
TZNAME:EST
DTSTART:20221106T060000
END:STANDARD
END:VTIMEZONE
BEGIN:VEVENT
DTSTART;TZID=America/New_York:20220815T140000
DTEND;TZID=America/New_York:20220815T153000
DTSTAMP:20260422T120022
CREATED:20220623T215357Z
LAST-MODIFIED:20220803T172209Z
UID:10001535-1660572000-1660577400@www.coastalhospice.org
SUMMARY:Somerset County Memorial Gathering
DESCRIPTION:Coastal Hospice invites you and your family to honor the life of your loved one by attending our Somerset County Memorial Gathering. \nMONDAY\, AUGUST 152:00 – 3:30 PM\n\nRichard A Henson Center at UMES Hotel & Conference Center (1st Floor)30690 University Blvd S\, Princess Anne\, MD 21853 \nRegistration is FREE!Limited Space.Handicap accessible.Masks Required Indoors. \nTO RESERVE A SPOT\, PLEASE RSVP BELOW!To register\, only Name and Email are required. Please type “N/A” if fields are not applicable. \nWe look forward to seeing you and sharing together this time of remembrance. \nFor more information contact Alvin Harmon ataharmon@coastalhospice.org or 410-742-8732 ext. 440
URL:https://www.coastalhospice.org/events/somerset-memorial-gathering/
LOCATION:Somerset County Memorial Gathering\, 30690 University Blvd S\, Princess Anne\, MD\, 21853\, United States
CATEGORIES:Memorial Gathering
ATTACH;FMTTYPE=image/jpeg:https://www.coastalhospice.org/wp-content/uploads/2022/06/Somerset-Memorial-Gathering-2.jpg
END:VEVENT
BEGIN:VEVENT
DTSTART;TZID=America/New_York:20220817T170000
DTEND;TZID=America/New_York:20220817T210000
DTSTAMP:20260422T120022
CREATED:20220715T160511Z
LAST-MODIFIED:20220726T161907Z
UID:10001538-1660755600-1660770000@www.coastalhospice.org
SUMMARY:Brew River Dock Bar Guest Bartending - Benefiting Coastal Hospice!
DESCRIPTION:Don’t miss our Brew River Dock Bar Guest Bartending Fundraiser where 20% of all drink and food orders at the outdoor bar will benefit Coastal Hospice. \nEvery Wednesday this summer\, Brew River is hosting non-profits who\, in addition to receiving 20% of their drink and food sales for the evening\, will compete for a Grand Prize! At the end of the summer\, the team with the most sales will win $5\,000 for their cause! \nOur Provider & Community Relations Manager\, Lauren Blair; Provider & Community Relations Liaison\, Lauren King; and Human Resources Manager\, Jessica Schempp will be behind the bar pouring your favorite summer cocktails as you overlook the Wicomico River while listening to music by DJ Jenny J! \nWednesday\, August 17 | 5-9 PMBrew River Dock Bar502 W Main St\, Salisbury\, MD 21801 \nQuestions? ContactLauren Blair | lblair@coastalhospice.org | 410-742-8732PLEASE NOTE: In the event of bad weather\, this event will take place indoors! \nSince 1980\, Coastal Hospice\, Inc. has been offering comfort and care to the residents of the four Lower Shore counties. We are a nonprofit 501(c)(3) organization that puts the needs of our patients first – regardless of the ability to pay. Your donation to Coastal Hospice allows us to promote dignity and quality of life for patients and families who face life-limiting conditions. \nLearn more by visiting\, www.coastalhospice.org/charitable-giving/
URL:https://www.coastalhospice.org/events/brew-river-guest-bartending/
LOCATION:502 W Main St\, Salisbury\, MD 21801
ATTACH;FMTTYPE=image/jpeg:https://www.coastalhospice.org/wp-content/uploads/2022/07/Brew-River-Guest-Bartending-Social-Media_With-DJ-Jenny-J.jpg
ORGANIZER;CN="Lauren Blair":MAILTO:lblair@coastalhospice.org
END:VEVENT
END:VCALENDAR