BEGIN:VCALENDAR
VERSION:2.0
PRODID:-//Coastal Hospice - ECPv6.10.2//NONSGML v1.0//EN
CALSCALE:GREGORIAN
METHOD:PUBLISH
X-ORIGINAL-URL:https://www.coastalhospice.org
X-WR-CALDESC:Events for Coastal Hospice
REFRESH-INTERVAL;VALUE=DURATION:PT1H
X-Robots-Tag:noindex
X-PUBLISHED-TTL:PT1H
BEGIN:VTIMEZONE
TZID:America/New_York
BEGIN:DAYLIGHT
TZOFFSETFROM:-0500
TZOFFSETTO:-0400
TZNAME:EDT
DTSTART:20220313T070000
END:DAYLIGHT
BEGIN:STANDARD
TZOFFSETFROM:-0400
TZOFFSETTO:-0500
TZNAME:EST
DTSTART:20221106T060000
END:STANDARD
END:VTIMEZONE
BEGIN:VEVENT
DTSTART;TZID=America/New_York:20220825T120000
DTEND;TZID=America/New_York:20220825T130000
DTSTAMP:20260422T102823
CREATED:20220725T191648Z
LAST-MODIFIED:20220729T163848Z
UID:10001539-1661428800-1661432400@www.coastalhospice.org
SUMMARY:Safety First: Slips\, Trips & Falls Prevention
DESCRIPTION:FREE LIVE WEBINAR! Falls and their complications are the leading cause of non-fatal and fatal injuries in adults over the age of 65. Up to 30% of falls result in cuts (lacerations)\, broken bones\, head trauma\, and other serious injuries. Join this timely webinar\, as our expert panel present an overview of the importance of falls prevention for older adults and their caregivers\, offering concrete strategies and interventions for caregivers to improve mobility and prevent falls. \n \nFEATURED PANELISTS:Robby Chin\, CPT | Health and Wellness Coordinator\, MAC\, Inc.\, Your Area Agency on AgingNicole Moore\, RN\, BSN | Home Hospice Team Leader\, Coastal Hospice \nMODERATOR: Lauren Blair | Provider & Community Relations Manager\, Coastal Hospice \nRegister Here
URL:https://www.coastalhospice.org/events/safety-first-slips-trips-falls-prevention/
CATEGORIES:Caregiver Academy
ATTACH;FMTTYPE=image/jpeg:https://www.coastalhospice.org/wp-content/uploads/2022/07/AdobeStock_153589211@2x@2x.jpg
END:VEVENT
END:VCALENDAR