BEGIN:VCALENDAR
VERSION:2.0
PRODID:-//Coastal Hospice - ECPv6.10.2//NONSGML v1.0//EN
CALSCALE:GREGORIAN
METHOD:PUBLISH
X-ORIGINAL-URL:https://www.coastalhospice.org
X-WR-CALDESC:Events for Coastal Hospice
REFRESH-INTERVAL;VALUE=DURATION:PT1H
X-Robots-Tag:noindex
X-PUBLISHED-TTL:PT1H
BEGIN:VTIMEZONE
TZID:America/New_York
BEGIN:DAYLIGHT
TZOFFSETFROM:-0500
TZOFFSETTO:-0400
TZNAME:EDT
DTSTART:20220313T070000
END:DAYLIGHT
BEGIN:STANDARD
TZOFFSETFROM:-0400
TZOFFSETTO:-0500
TZNAME:EST
DTSTART:20221106T060000
END:STANDARD
END:VTIMEZONE
BEGIN:VEVENT
DTSTART;TZID=America/New_York:20221025T120000
DTEND;TZID=America/New_York:20221025T130000
DTSTAMP:20260422T133427
CREATED:20221007T003228Z
LAST-MODIFIED:20221018T160735Z
UID:10001560-1666699200-1666702800@www.coastalhospice.org
SUMMARY:Grief During the Holidays: Tools to Cope with Loss
DESCRIPTION:FREE LIVE WEBINAR! The holiday season can be especially challenging if you are dealing with the death of a loved one. Whether it was a recent loss or one that occurred some time ago\, grief may seem overwhelming during the holiday season. Join our panel of Bereavement experts as they offer tools to cope with the ebbs and flows of grief and strategies that will help you get through the season while honoring your feelings and traditions. \nPANELISTS:Alvin Harmon\, CBCP\, CEOLD | Bereavement Care Services Manager\, Compass Program Manager\, Coastal Hospice \nCristina Puig-Lugo\, BA\, MS\, MA | Bereavement Counselor\, Coastal Hospice \nRev. Howard Travers\, MA\, MDIV\, CT | Bereavement Counselor\, Coastal Hospice \nMODERATOR: Lauren Blair | Provider & Community Relations Manager\, Coastal Hospice \n			\n				\n				\n				\n				\n				\n				\n					\n					\n				\n				\n			\n				Register Here
URL:https://www.coastalhospice.org/events/grief-during-the-holidays/
LOCATION:Maryland
CATEGORIES:Caregiver Academy
ATTACH;FMTTYPE=image/jpeg:https://www.coastalhospice.org/wp-content/uploads/2022/10/cala-lily-candle-grief.jpg
ORGANIZER;CN="Caregiver Academy":MAILTO:caregiveracademy@coastalhospice.org
END:VEVENT
END:VCALENDAR