BEGIN:VCALENDAR
VERSION:2.0
PRODID:-//Coastal Hospice - ECPv6.10.2//NONSGML v1.0//EN
CALSCALE:GREGORIAN
METHOD:PUBLISH
X-ORIGINAL-URL:https://www.coastalhospice.org
X-WR-CALDESC:Events for Coastal Hospice
REFRESH-INTERVAL;VALUE=DURATION:PT1H
X-Robots-Tag:noindex
X-PUBLISHED-TTL:PT1H
BEGIN:VTIMEZONE
TZID:America/New_York
BEGIN:DAYLIGHT
TZOFFSETFROM:-0500
TZOFFSETTO:-0400
TZNAME:EDT
DTSTART:20220313T070000
END:DAYLIGHT
BEGIN:STANDARD
TZOFFSETFROM:-0400
TZOFFSETTO:-0500
TZNAME:EST
DTSTART:20221106T060000
END:STANDARD
END:VTIMEZONE
BEGIN:VEVENT
DTSTART;TZID=America/New_York:20221115T120000
DTEND;TZID=America/New_York:20221115T130000
DTSTAMP:20260422T071636
CREATED:20221017T165701Z
LAST-MODIFIED:20221109T144333Z
UID:10001562-1668513600-1668517200@www.coastalhospice.org
SUMMARY:Understanding the Role of a Hospice Care Team
DESCRIPTION:FREE LIVE WEBINAR! Learn about the different people who make up a multidisciplinary hospice team\, and how they can help you and your family. \nPANELISTS:Josh Davis\, BSN\, RN\, CM/DN\, CHPN| Director of Hospice Inpatient Facilities\, Coastal HospiceAlison Benko\, MSN\, FNP\, ACHPN | Nurse Practitioner\, Coastal HospiceAlvin Harmon\, CBCP\, CEOLD | Bereavement Care Services Manager\, Compass Program Manager\, Coastal HospiceRev. Sharon Hutchison\, BA\, MDIV\, CT | Spiritual Care Services Manager\, Coastal HospiceEmily Nichols\, LCSW-C\, ACHP-SW\, CDP | Social Work Manager\, Coastal HospiceDoris Ludicke\, MT-BC\, LMT | Music Therapist\, Coastal HospiceStephanie McClellan | Volunteer Coordinator\, Coastal Hospice \nPANELIST and MODERATOR: Lauren Blair | Provider & Community Relations Manager\, Coastal Hospice \n			\n				Register Here
URL:https://www.coastalhospice.org/events/understanding-role-hospice-care-team/
CATEGORIES:Caregiver Academy
ATTACH;FMTTYPE=image/jpeg:https://www.coastalhospice.org/wp-content/uploads/2022/10/Understanding-the-Role-of-a-Hospice-Team-6.jpg
ORGANIZER;CN="Caregiver Academy":MAILTO:caregiveracademy@coastalhospice.org
END:VEVENT
BEGIN:VEVENT
DTSTART;TZID=America/New_York:20221119T140000
DTEND;TZID=America/New_York:20221119T153000
DTSTAMP:20260422T071637
CREATED:20221011T173453Z
LAST-MODIFIED:20221013T180520Z
UID:10001561-1668866400-1668871800@www.coastalhospice.org
SUMMARY:Coping with the Holidays
DESCRIPTION:Coping with the Holidays\nOne Day Support Group – All Four Lower Shore Communities Welcome!\nFor those who are grieving the death of a loved one\, holidays can be very difficult because their absence can be deeply felt. As we gather\, we will share some helpful tips\, revise traditions and support one another during this time.\nSaturday\, November 19 @ 2:00 p.m. – 3:30 p.m. \n1324 Belmont Avenue\, Suite 401 Salisbury\, MDCommunity Foundation of the Eastern Shore East Park Professional CenterLarge Conference Room \nPlease arrive 10 minutes early. \nSpace Limited. Registration is free. Scroll down RSVP.To register\, only Name and Email are required. Please type “N/A” if fields are not applicable.For more information\, please email Cristina Puig-Lugo at CPuig-Lugo@coastalhospice.org or call 410-742-8732 ext. 334
URL:https://www.coastalhospice.org/events/coping-with-the-holidays/
LOCATION:Community Foundation of the Eastern Shore\, 1324 Belmont Avenue\, Ste. 401\, Salisbury\, MD\, 21804
CATEGORIES:Support Group
ATTACH;FMTTYPE=image/jpeg:https://www.coastalhospice.org/wp-content/uploads/2022/10/Coping-with-the-Holidays-Flyer-1.jpg
END:VEVENT
END:VCALENDAR