BEGIN:VCALENDAR
VERSION:2.0
PRODID:-//Coastal Hospice - ECPv6.10.2//NONSGML v1.0//EN
CALSCALE:GREGORIAN
METHOD:PUBLISH
X-WR-CALNAME:Coastal Hospice
X-ORIGINAL-URL:https://www.coastalhospice.org
X-WR-CALDESC:Events for Coastal Hospice
REFRESH-INTERVAL;VALUE=DURATION:PT1H
X-Robots-Tag:noindex
X-PUBLISHED-TTL:PT1H
BEGIN:VTIMEZONE
TZID:America/New_York
BEGIN:DAYLIGHT
TZOFFSETFROM:-0500
TZOFFSETTO:-0400
TZNAME:EDT
DTSTART:20230312T070000
END:DAYLIGHT
BEGIN:STANDARD
TZOFFSETFROM:-0400
TZOFFSETTO:-0500
TZNAME:EST
DTSTART:20231105T060000
END:STANDARD
END:VTIMEZONE
BEGIN:VEVENT
DTSTART;TZID=America/New_York:20230829T070000
DTEND;TZID=America/New_York:20230829T080000
DTSTAMP:20260419T123015
CREATED:20230713T132454Z
LAST-MODIFIED:20230713T174300Z
UID:10001628-1693292400-1693296000@www.coastalhospice.org
SUMMARY:Pain Management in Palliative Care
DESCRIPTION:FREE In-Person Presentation with Continuing Education Credits:1.0 contact hour for physicians\, nurses\, and social workers.In partnership with TidalHealth Peninsula Regional \nTuesday\, August 29\, 2023 | 7:00 AM – 8:00 AMCheck in starts at 6:30 AM / Breakfast will be provided \nTidalHealth Peninsula Regional – Hallowell A100 East Carrol Street\, Salisbury\, MD \nJoin our experts as they share the latest information in Pain Management in Palliative Care. They will address the importance of the multidisciplinary team approach\, correct assessment and re-assessment\, breakthrough strategies\, and the impact that appropriate pain management has in the quality of life of patients and their families. \nObjectives:1. Describe the Neurobiology of pain and potential targets.2. Compare\, contrast nociceptive and neuropathic pain.3. Know steps of analgesic management and different medications including side effects.4. Assess and provide effective interventions and follow up. \nPresenters:Dr. Ghulam Waris\, F.A.A.G.M. | Chief Medical Director\, Coastal HospiceAnn Lovely\, RN\, BSN\, CHPN | Chief Clinical Officer\, Coastal Hospice \nContinuing Education: 1.0 contact hour for physicians\, nurses\, and social workers. \nPhysicians:Accreditation Statement for CME: This activity has been planned and implemented in accordance with the accreditation requirements and policies of the Accreditation Council for Continuing Medical Education (ACCME) through the joint provider ship of TidalHealth Peninsula Regional and Coastal Hospice. TidalHealth Peninsula Regional is accredited by MedChi\, The Maryland State Medical Society to provide continuing medical education for physicians. \nDesignation Statement: Designation Statement: The Medical Education Team of TidalHealth Peninsula Regional designates this live activity for a maximum of 1.0 AMA PRA Category 1 Credit(s)™. Physicians should claim only the credit commensurate with the extent of their participation in the activity. \nDisclosure Statement: The planners\, speakers and Education Team of this educational activity declare they have no relevant financial relationship(s) to disclose with ineligible companies whose primary business is producing\, marketing\, selling\, re-selling or distributing healthcare products used by or on patients. \nNurses: TidalHealth is approved as a provider of nursing continuing professional development by the Maryland Nurses Association\, an accredited approver by the American Nurses Credentialing Center’s Commission on Accreditation. \nSocial Workers: TidalHealth Peninsula Regional is authorized by the Board of Social Work Examiners in Maryland to sponsor social work continuing education learning activities and maintains full responsibility for this program. This training qualifies for Category I continuing education units. \n 
URL:https://www.coastalhospice.org/events/pain-management-in-palliative-care/
LOCATION:100 East Carroll Street\, Salisbury\, MD
CATEGORIES:Caregiver Academy
ATTACH;FMTTYPE=image/jpeg:https://www.coastalhospice.org/wp-content/uploads/2023/07/Social-Media-Is-Pain-Management-in-Palliative-Care-1.jpg
ORGANIZER;CN="Caregiver Academy":MAILTO:caregiveracademy@coastalhospice.org
END:VEVENT
END:VCALENDAR