BEGIN:VCALENDAR
VERSION:2.0
PRODID:-//Coastal Hospice - ECPv6.10.2//NONSGML v1.0//EN
CALSCALE:GREGORIAN
METHOD:PUBLISH
X-ORIGINAL-URL:https://www.coastalhospice.org
X-WR-CALDESC:Events for Coastal Hospice
REFRESH-INTERVAL;VALUE=DURATION:PT1H
X-Robots-Tag:noindex
X-PUBLISHED-TTL:PT1H
BEGIN:VTIMEZONE
TZID:America/New_York
BEGIN:DAYLIGHT
TZOFFSETFROM:-0500
TZOFFSETTO:-0400
TZNAME:EDT
DTSTART:20230312T070000
END:DAYLIGHT
BEGIN:STANDARD
TZOFFSETFROM:-0400
TZOFFSETTO:-0500
TZNAME:EST
DTSTART:20231105T060000
END:STANDARD
END:VTIMEZONE
BEGIN:VEVENT
DTSTART;TZID=America/New_York:20230522T100000
DTEND;TZID=America/New_York:20230522T110000
DTSTAMP:20260420T045335
CREATED:20230302T193654Z
LAST-MODIFIED:20230307T193053Z
UID:10001606-1684749600-1684753200@www.coastalhospice.org
SUMMARY:Loss of Spouse/Partner Grief Support Group - Wicomico County
DESCRIPTION:MONDAYS | April 17 – May 226-Week Support Group10:00am – 11:00amCoastal Hospice2604 Old Ocean City Rd\, Salisbury\, MD 21804 \nThe loss of a spouse or partner can be devastating. Share your journey of grief with others who have had similar losses with the hope that your burden will lessen. \n\n6-Week Support Group Group: Open to our Wicomico County Community\nWe request that you wait a minimum of 3 months after the death of a loved one to attend.\nCommitment to attend all meetings is highly encouraged.\nPlease arrive 10 minutes early.\nBased on current Coastal Hospice COVID protocol\, masks may be required.\n\nRegistration is Free\, but space is limited.\nPlease register by calling or emailing Cristina Puig-Lugo\, Bereavement Counselor at Coastal Hospice at CPuig-Lugo@coastalhospice.org / 410-742-8732 ext. 334
URL:https://www.coastalhospice.org/events/loss-of-spouse-partner-grief-support-group-wicomico-county-2/2023-05-22/
LOCATION:113 Healthway Drive Salisbury\, MD 21804\, MD
CATEGORIES:Support Group
ATTACH;FMTTYPE=image/jpeg:https://www.coastalhospice.org/wp-content/uploads/2023/03/Loss-of-Spouse-Partner-Grief-Support-Group_-Wicomico-County.jpg
END:VEVENT
BEGIN:VEVENT
DTSTART;TZID=America/New_York:20230515T100000
DTEND;TZID=America/New_York:20230515T110000
DTSTAMP:20260420T045335
CREATED:20230302T193654Z
LAST-MODIFIED:20230307T193053Z
UID:10001605-1684144800-1684148400@www.coastalhospice.org
SUMMARY:Loss of Spouse/Partner Grief Support Group - Wicomico County
DESCRIPTION:MONDAYS | April 17 – May 226-Week Support Group10:00am – 11:00amCoastal Hospice2604 Old Ocean City Rd\, Salisbury\, MD 21804 \nThe loss of a spouse or partner can be devastating. Share your journey of grief with others who have had similar losses with the hope that your burden will lessen. \n\n6-Week Support Group Group: Open to our Wicomico County Community\nWe request that you wait a minimum of 3 months after the death of a loved one to attend.\nCommitment to attend all meetings is highly encouraged.\nPlease arrive 10 minutes early.\nBased on current Coastal Hospice COVID protocol\, masks may be required.\n\nRegistration is Free\, but space is limited.\nPlease register by calling or emailing Cristina Puig-Lugo\, Bereavement Counselor at Coastal Hospice at CPuig-Lugo@coastalhospice.org / 410-742-8732 ext. 334
URL:https://www.coastalhospice.org/events/loss-of-spouse-partner-grief-support-group-wicomico-county-2/2023-05-15/
LOCATION:113 Healthway Drive Salisbury\, MD 21804\, MD
CATEGORIES:Support Group
ATTACH;FMTTYPE=image/jpeg:https://www.coastalhospice.org/wp-content/uploads/2023/03/Loss-of-Spouse-Partner-Grief-Support-Group_-Wicomico-County.jpg
END:VEVENT
BEGIN:VEVENT
DTSTART;TZID=America/New_York:20230508T100000
DTEND;TZID=America/New_York:20230508T110000
DTSTAMP:20260420T045335
CREATED:20230302T193654Z
LAST-MODIFIED:20230307T193053Z
UID:10001604-1683540000-1683543600@www.coastalhospice.org
SUMMARY:Loss of Spouse/Partner Grief Support Group - Wicomico County
DESCRIPTION:MONDAYS | April 17 – May 226-Week Support Group10:00am – 11:00amCoastal Hospice2604 Old Ocean City Rd\, Salisbury\, MD 21804 \nThe loss of a spouse or partner can be devastating. Share your journey of grief with others who have had similar losses with the hope that your burden will lessen. \n\n6-Week Support Group Group: Open to our Wicomico County Community\nWe request that you wait a minimum of 3 months after the death of a loved one to attend.\nCommitment to attend all meetings is highly encouraged.\nPlease arrive 10 minutes early.\nBased on current Coastal Hospice COVID protocol\, masks may be required.\n\nRegistration is Free\, but space is limited.\nPlease register by calling or emailing Cristina Puig-Lugo\, Bereavement Counselor at Coastal Hospice at CPuig-Lugo@coastalhospice.org / 410-742-8732 ext. 334
URL:https://www.coastalhospice.org/events/loss-of-spouse-partner-grief-support-group-wicomico-county-2/2023-05-08/
LOCATION:113 Healthway Drive Salisbury\, MD 21804\, MD
CATEGORIES:Support Group
ATTACH;FMTTYPE=image/jpeg:https://www.coastalhospice.org/wp-content/uploads/2023/03/Loss-of-Spouse-Partner-Grief-Support-Group_-Wicomico-County.jpg
END:VEVENT
BEGIN:VEVENT
DTSTART;TZID=America/New_York:20230501T100000
DTEND;TZID=America/New_York:20230501T110000
DTSTAMP:20260420T045335
CREATED:20230302T193654Z
LAST-MODIFIED:20230307T193053Z
UID:10001603-1682935200-1682938800@www.coastalhospice.org
SUMMARY:Loss of Spouse/Partner Grief Support Group - Wicomico County
DESCRIPTION:MONDAYS | April 17 – May 226-Week Support Group10:00am – 11:00amCoastal Hospice2604 Old Ocean City Rd\, Salisbury\, MD 21804 \nThe loss of a spouse or partner can be devastating. Share your journey of grief with others who have had similar losses with the hope that your burden will lessen. \n\n6-Week Support Group Group: Open to our Wicomico County Community\nWe request that you wait a minimum of 3 months after the death of a loved one to attend.\nCommitment to attend all meetings is highly encouraged.\nPlease arrive 10 minutes early.\nBased on current Coastal Hospice COVID protocol\, masks may be required.\n\nRegistration is Free\, but space is limited.\nPlease register by calling or emailing Cristina Puig-Lugo\, Bereavement Counselor at Coastal Hospice at CPuig-Lugo@coastalhospice.org / 410-742-8732 ext. 334
URL:https://www.coastalhospice.org/events/loss-of-spouse-partner-grief-support-group-wicomico-county-2/2023-05-01/
LOCATION:113 Healthway Drive Salisbury\, MD 21804\, MD
CATEGORIES:Support Group
ATTACH;FMTTYPE=image/jpeg:https://www.coastalhospice.org/wp-content/uploads/2023/03/Loss-of-Spouse-Partner-Grief-Support-Group_-Wicomico-County.jpg
END:VEVENT
BEGIN:VEVENT
DTSTART;TZID=America/New_York:20230424T100000
DTEND;TZID=America/New_York:20230424T110000
DTSTAMP:20260420T045335
CREATED:20230302T193654Z
LAST-MODIFIED:20230307T193053Z
UID:10001602-1682330400-1682334000@www.coastalhospice.org
SUMMARY:Loss of Spouse/Partner Grief Support Group - Wicomico County
DESCRIPTION:MONDAYS | April 17 – May 226-Week Support Group10:00am – 11:00amCoastal Hospice2604 Old Ocean City Rd\, Salisbury\, MD 21804 \nThe loss of a spouse or partner can be devastating. Share your journey of grief with others who have had similar losses with the hope that your burden will lessen. \n\n6-Week Support Group Group: Open to our Wicomico County Community\nWe request that you wait a minimum of 3 months after the death of a loved one to attend.\nCommitment to attend all meetings is highly encouraged.\nPlease arrive 10 minutes early.\nBased on current Coastal Hospice COVID protocol\, masks may be required.\n\nRegistration is Free\, but space is limited.\nPlease register by calling or emailing Cristina Puig-Lugo\, Bereavement Counselor at Coastal Hospice at CPuig-Lugo@coastalhospice.org / 410-742-8732 ext. 334
URL:https://www.coastalhospice.org/events/loss-of-spouse-partner-grief-support-group-wicomico-county-2/2023-04-24/
LOCATION:113 Healthway Drive Salisbury\, MD 21804\, MD
CATEGORIES:Support Group
ATTACH;FMTTYPE=image/jpeg:https://www.coastalhospice.org/wp-content/uploads/2023/03/Loss-of-Spouse-Partner-Grief-Support-Group_-Wicomico-County.jpg
END:VEVENT
BEGIN:VEVENT
DTSTART;TZID=America/New_York:20230417T100000
DTEND;TZID=America/New_York:20230417T110000
DTSTAMP:20260420T045335
CREATED:20230302T193654Z
LAST-MODIFIED:20230307T193053Z
UID:10001601-1681725600-1681729200@www.coastalhospice.org
SUMMARY:Loss of Spouse/Partner Grief Support Group - Wicomico County
DESCRIPTION:MONDAYS | April 17 – May 226-Week Support Group10:00am – 11:00amCoastal Hospice2604 Old Ocean City Rd\, Salisbury\, MD 21804 \nThe loss of a spouse or partner can be devastating. Share your journey of grief with others who have had similar losses with the hope that your burden will lessen. \n\n6-Week Support Group Group: Open to our Wicomico County Community\nWe request that you wait a minimum of 3 months after the death of a loved one to attend.\nCommitment to attend all meetings is highly encouraged.\nPlease arrive 10 minutes early.\nBased on current Coastal Hospice COVID protocol\, masks may be required.\n\nRegistration is Free\, but space is limited.\nPlease register by calling or emailing Cristina Puig-Lugo\, Bereavement Counselor at Coastal Hospice at CPuig-Lugo@coastalhospice.org / 410-742-8732 ext. 334
URL:https://www.coastalhospice.org/events/loss-of-spouse-partner-grief-support-group-wicomico-county-2/2023-04-17/
LOCATION:113 Healthway Drive Salisbury\, MD 21804\, MD
CATEGORIES:Support Group
ATTACH;FMTTYPE=image/jpeg:https://www.coastalhospice.org/wp-content/uploads/2023/03/Loss-of-Spouse-Partner-Grief-Support-Group_-Wicomico-County.jpg
END:VEVENT
BEGIN:VEVENT
DTSTART;TZID=America/New_York:20230213T100000
DTEND;TZID=America/New_York:20230213T110000
DTSTAMP:20260420T045335
CREATED:20221215T164926Z
LAST-MODIFIED:20221220T151208Z
UID:10001570-1676282400-1676286000@www.coastalhospice.org
SUMMARY:Loss of Spouse/Partner Grief Support Group - Wicomico County
DESCRIPTION:MONDAYS\, January 9 – February 1310:00am – 11:00amCoastal Hospice Healthway Office1113 Healthway Drive Salisbury\, MD 21804 \nThe loss of a spouse or partner can be devastating. Share your journey of grief with others who have had similar losses with the hope that your burden will lessen. \n\n6-Week Group: Open to our Wicomico County Community\nWe request that you wait a minimum of 3 months after the death of a loved one to attend.\nCommitment to attend all meetings is highly encouraged\nPlease arrive 10 minutes early\nBased on current Coastal Hospice COVID protocol\, masks will be required\n\nRegistration is Free\, but space is limited.\nPlease register by calling or emailing Cristina Puig-Lugo\, Bereavement Counselor at Coastal Hospice at CPuig-Lugo@coastalhospice.org / 410-742-8732 ext. 334
URL:https://www.coastalhospice.org/events/loss-spouse-partner-support-group-wicomico/2023-02-13/
LOCATION:113 Healthway Drive Salisbury\, MD 21804\, MD
CATEGORIES:Support Group
ATTACH;FMTTYPE=image/jpeg:https://www.coastalhospice.org/wp-content/uploads/2022/12/2023-Support-and-Bereaved-Groups-WICOMICO.jpg
END:VEVENT
BEGIN:VEVENT
DTSTART;TZID=America/New_York:20230206T100000
DTEND;TZID=America/New_York:20230206T110000
DTSTAMP:20260420T045335
CREATED:20221215T164926Z
LAST-MODIFIED:20221220T151208Z
UID:10001569-1675677600-1675681200@www.coastalhospice.org
SUMMARY:Loss of Spouse/Partner Grief Support Group - Wicomico County
DESCRIPTION:MONDAYS\, January 9 – February 1310:00am – 11:00amCoastal Hospice Healthway Office1113 Healthway Drive Salisbury\, MD 21804 \nThe loss of a spouse or partner can be devastating. Share your journey of grief with others who have had similar losses with the hope that your burden will lessen. \n\n6-Week Group: Open to our Wicomico County Community\nWe request that you wait a minimum of 3 months after the death of a loved one to attend.\nCommitment to attend all meetings is highly encouraged\nPlease arrive 10 minutes early\nBased on current Coastal Hospice COVID protocol\, masks will be required\n\nRegistration is Free\, but space is limited.\nPlease register by calling or emailing Cristina Puig-Lugo\, Bereavement Counselor at Coastal Hospice at CPuig-Lugo@coastalhospice.org / 410-742-8732 ext. 334
URL:https://www.coastalhospice.org/events/loss-spouse-partner-support-group-wicomico/2023-02-06/
LOCATION:113 Healthway Drive Salisbury\, MD 21804\, MD
CATEGORIES:Support Group
ATTACH;FMTTYPE=image/jpeg:https://www.coastalhospice.org/wp-content/uploads/2022/12/2023-Support-and-Bereaved-Groups-WICOMICO.jpg
END:VEVENT
BEGIN:VEVENT
DTSTART;TZID=America/New_York:20230130T100000
DTEND;TZID=America/New_York:20230130T110000
DTSTAMP:20260420T045335
CREATED:20221215T164926Z
LAST-MODIFIED:20221220T151208Z
UID:10001568-1675072800-1675076400@www.coastalhospice.org
SUMMARY:Loss of Spouse/Partner Grief Support Group - Wicomico County
DESCRIPTION:MONDAYS\, January 9 – February 1310:00am – 11:00amCoastal Hospice Healthway Office1113 Healthway Drive Salisbury\, MD 21804 \nThe loss of a spouse or partner can be devastating. Share your journey of grief with others who have had similar losses with the hope that your burden will lessen. \n\n6-Week Group: Open to our Wicomico County Community\nWe request that you wait a minimum of 3 months after the death of a loved one to attend.\nCommitment to attend all meetings is highly encouraged\nPlease arrive 10 minutes early\nBased on current Coastal Hospice COVID protocol\, masks will be required\n\nRegistration is Free\, but space is limited.\nPlease register by calling or emailing Cristina Puig-Lugo\, Bereavement Counselor at Coastal Hospice at CPuig-Lugo@coastalhospice.org / 410-742-8732 ext. 334
URL:https://www.coastalhospice.org/events/loss-spouse-partner-support-group-wicomico/2023-01-30/
LOCATION:113 Healthway Drive Salisbury\, MD 21804\, MD
CATEGORIES:Support Group
ATTACH;FMTTYPE=image/jpeg:https://www.coastalhospice.org/wp-content/uploads/2022/12/2023-Support-and-Bereaved-Groups-WICOMICO.jpg
END:VEVENT
BEGIN:VEVENT
DTSTART;TZID=America/New_York:20230123T100000
DTEND;TZID=America/New_York:20230123T110000
DTSTAMP:20260420T045335
CREATED:20221215T164926Z
LAST-MODIFIED:20221220T151208Z
UID:10001567-1674468000-1674471600@www.coastalhospice.org
SUMMARY:Loss of Spouse/Partner Grief Support Group - Wicomico County
DESCRIPTION:MONDAYS\, January 9 – February 1310:00am – 11:00amCoastal Hospice Healthway Office1113 Healthway Drive Salisbury\, MD 21804 \nThe loss of a spouse or partner can be devastating. Share your journey of grief with others who have had similar losses with the hope that your burden will lessen. \n\n6-Week Group: Open to our Wicomico County Community\nWe request that you wait a minimum of 3 months after the death of a loved one to attend.\nCommitment to attend all meetings is highly encouraged\nPlease arrive 10 minutes early\nBased on current Coastal Hospice COVID protocol\, masks will be required\n\nRegistration is Free\, but space is limited.\nPlease register by calling or emailing Cristina Puig-Lugo\, Bereavement Counselor at Coastal Hospice at CPuig-Lugo@coastalhospice.org / 410-742-8732 ext. 334
URL:https://www.coastalhospice.org/events/loss-spouse-partner-support-group-wicomico/2023-01-23/
LOCATION:113 Healthway Drive Salisbury\, MD 21804\, MD
CATEGORIES:Support Group
ATTACH;FMTTYPE=image/jpeg:https://www.coastalhospice.org/wp-content/uploads/2022/12/2023-Support-and-Bereaved-Groups-WICOMICO.jpg
END:VEVENT
BEGIN:VEVENT
DTSTART;TZID=America/New_York:20230116T100000
DTEND;TZID=America/New_York:20230116T110000
DTSTAMP:20260420T045335
CREATED:20221215T164926Z
LAST-MODIFIED:20221220T151208Z
UID:10001566-1673863200-1673866800@www.coastalhospice.org
SUMMARY:Loss of Spouse/Partner Grief Support Group - Wicomico County
DESCRIPTION:MONDAYS\, January 9 – February 1310:00am – 11:00amCoastal Hospice Healthway Office1113 Healthway Drive Salisbury\, MD 21804 \nThe loss of a spouse or partner can be devastating. Share your journey of grief with others who have had similar losses with the hope that your burden will lessen. \n\n6-Week Group: Open to our Wicomico County Community\nWe request that you wait a minimum of 3 months after the death of a loved one to attend.\nCommitment to attend all meetings is highly encouraged\nPlease arrive 10 minutes early\nBased on current Coastal Hospice COVID protocol\, masks will be required\n\nRegistration is Free\, but space is limited.\nPlease register by calling or emailing Cristina Puig-Lugo\, Bereavement Counselor at Coastal Hospice at CPuig-Lugo@coastalhospice.org / 410-742-8732 ext. 334
URL:https://www.coastalhospice.org/events/loss-spouse-partner-support-group-wicomico/2023-01-16/
LOCATION:113 Healthway Drive Salisbury\, MD 21804\, MD
CATEGORIES:Support Group
ATTACH;FMTTYPE=image/jpeg:https://www.coastalhospice.org/wp-content/uploads/2022/12/2023-Support-and-Bereaved-Groups-WICOMICO.jpg
END:VEVENT
BEGIN:VEVENT
DTSTART;TZID=America/New_York:20230109T100000
DTEND;TZID=America/New_York:20230109T110000
DTSTAMP:20260420T045335
CREATED:20221215T164926Z
LAST-MODIFIED:20221220T151208Z
UID:10001565-1673258400-1673262000@www.coastalhospice.org
SUMMARY:Loss of Spouse/Partner Grief Support Group - Wicomico County
DESCRIPTION:MONDAYS\, January 9 – February 1310:00am – 11:00amCoastal Hospice Healthway Office1113 Healthway Drive Salisbury\, MD 21804 \nThe loss of a spouse or partner can be devastating. Share your journey of grief with others who have had similar losses with the hope that your burden will lessen. \n\n6-Week Group: Open to our Wicomico County Community\nWe request that you wait a minimum of 3 months after the death of a loved one to attend.\nCommitment to attend all meetings is highly encouraged\nPlease arrive 10 minutes early\nBased on current Coastal Hospice COVID protocol\, masks will be required\n\nRegistration is Free\, but space is limited.\nPlease register by calling or emailing Cristina Puig-Lugo\, Bereavement Counselor at Coastal Hospice at CPuig-Lugo@coastalhospice.org / 410-742-8732 ext. 334
URL:https://www.coastalhospice.org/events/loss-spouse-partner-support-group-wicomico/2023-01-09/
LOCATION:113 Healthway Drive Salisbury\, MD 21804\, MD
CATEGORIES:Support Group
ATTACH;FMTTYPE=image/jpeg:https://www.coastalhospice.org/wp-content/uploads/2022/12/2023-Support-and-Bereaved-Groups-WICOMICO.jpg
END:VEVENT
END:VCALENDAR