BEGIN:VCALENDAR
VERSION:2.0
PRODID:-//Coastal Hospice - ECPv6.10.2//NONSGML v1.0//EN
CALSCALE:GREGORIAN
METHOD:PUBLISH
X-WR-CALNAME:Coastal Hospice
X-ORIGINAL-URL:https://www.coastalhospice.org
X-WR-CALDESC:Events for Coastal Hospice
REFRESH-INTERVAL;VALUE=DURATION:PT1H
X-Robots-Tag:noindex
X-PUBLISHED-TTL:PT1H
BEGIN:VTIMEZONE
TZID:America/New_York
BEGIN:DAYLIGHT
TZOFFSETFROM:-0500
TZOFFSETTO:-0400
TZNAME:EDT
DTSTART:20260308T070000
END:DAYLIGHT
BEGIN:STANDARD
TZOFFSETFROM:-0400
TZOFFSETTO:-0500
TZNAME:EST
DTSTART:20261101T060000
END:STANDARD
END:VTIMEZONE
BEGIN:VEVENT
DTSTART;TZID=America/New_York:20260423T120000
DTEND;TZID=America/New_York:20260423T133000
DTSTAMP:20260422T042327
CREATED:20251218T210629Z
LAST-MODIFIED:20251218T210631Z
UID:10003566-1776945600-1776951000@www.coastalhospice.org
SUMMARY:Grief & Recovery Support Group (Apr/May)
DESCRIPTION:Join Coastal Hospice’s 8-week Grief & Recovery Support Group to experience a safe\, non-judgmental\, and supportive environment where your healing can begin. Open to all adults who have experienced the death of a loved one\, whether or not Coastal Hospice was part of your journey. \nTo register\, please email Rachel Gulley\, Coastal Hospice Bereavement Counselor\, by phone at 667-252-0557 or by email rgulley@coastalhospice.org. If leaving a message\, please state the grief support group you are interested in attending. \nMAC Inc\n909 Progress Cir | Salisbury\, MD\nThursdays | April 9 – May 28\n12:00 pm -1:30 pm
URL:https://www.coastalhospice.org/events/grief-recovery-support-group-apr-may/2026-04-23/
LOCATION:909 Progress Circle\, Salisbury\, MD 21804
CATEGORIES:Grief Counseling
ATTACH;FMTTYPE=image/jpeg:https://www.coastalhospice.org/wp-content/uploads/2025/12/Grief-Recovery-Support-Group-Apr-May-2026-1.jpg
ORGANIZER;CN="Rachel Gulley":MAILTO:rgulley@coastalhospice.org
END:VEVENT
BEGIN:VEVENT
DTSTART;TZID=America/New_York:20260430T120000
DTEND;TZID=America/New_York:20260430T133000
DTSTAMP:20260422T042327
CREATED:20251218T210629Z
LAST-MODIFIED:20251218T210631Z
UID:10003567-1777550400-1777555800@www.coastalhospice.org
SUMMARY:Grief & Recovery Support Group (Apr/May)
DESCRIPTION:Join Coastal Hospice’s 8-week Grief & Recovery Support Group to experience a safe\, non-judgmental\, and supportive environment where your healing can begin. Open to all adults who have experienced the death of a loved one\, whether or not Coastal Hospice was part of your journey. \nTo register\, please email Rachel Gulley\, Coastal Hospice Bereavement Counselor\, by phone at 667-252-0557 or by email rgulley@coastalhospice.org. If leaving a message\, please state the grief support group you are interested in attending. \nMAC Inc\n909 Progress Cir | Salisbury\, MD\nThursdays | April 9 – May 28\n12:00 pm -1:30 pm
URL:https://www.coastalhospice.org/events/grief-recovery-support-group-apr-may/2026-04-30/
LOCATION:909 Progress Circle\, Salisbury\, MD 21804
CATEGORIES:Grief Counseling
ATTACH;FMTTYPE=image/jpeg:https://www.coastalhospice.org/wp-content/uploads/2025/12/Grief-Recovery-Support-Group-Apr-May-2026-1.jpg
ORGANIZER;CN="Rachel Gulley":MAILTO:rgulley@coastalhospice.org
END:VEVENT
BEGIN:VEVENT
DTSTART;TZID=America/New_York:20260507T120000
DTEND;TZID=America/New_York:20260507T133000
DTSTAMP:20260422T042327
CREATED:20251218T210629Z
LAST-MODIFIED:20251218T210631Z
UID:10003568-1778155200-1778160600@www.coastalhospice.org
SUMMARY:Grief & Recovery Support Group (Apr/May)
DESCRIPTION:Join Coastal Hospice’s 8-week Grief & Recovery Support Group to experience a safe\, non-judgmental\, and supportive environment where your healing can begin. Open to all adults who have experienced the death of a loved one\, whether or not Coastal Hospice was part of your journey. \nTo register\, please email Rachel Gulley\, Coastal Hospice Bereavement Counselor\, by phone at 667-252-0557 or by email rgulley@coastalhospice.org. If leaving a message\, please state the grief support group you are interested in attending. \nMAC Inc\n909 Progress Cir | Salisbury\, MD\nThursdays | April 9 – May 28\n12:00 pm -1:30 pm
URL:https://www.coastalhospice.org/events/grief-recovery-support-group-apr-may/2026-05-07/
LOCATION:909 Progress Circle\, Salisbury\, MD 21804
CATEGORIES:Grief Counseling
ATTACH;FMTTYPE=image/jpeg:https://www.coastalhospice.org/wp-content/uploads/2025/12/Grief-Recovery-Support-Group-Apr-May-2026-1.jpg
ORGANIZER;CN="Rachel Gulley":MAILTO:rgulley@coastalhospice.org
END:VEVENT
BEGIN:VEVENT
DTSTART;TZID=America/New_York:20260514T120000
DTEND;TZID=America/New_York:20260514T133000
DTSTAMP:20260422T042327
CREATED:20251218T210629Z
LAST-MODIFIED:20251218T210631Z
UID:10003569-1778760000-1778765400@www.coastalhospice.org
SUMMARY:Grief & Recovery Support Group (Apr/May)
DESCRIPTION:Join Coastal Hospice’s 8-week Grief & Recovery Support Group to experience a safe\, non-judgmental\, and supportive environment where your healing can begin. Open to all adults who have experienced the death of a loved one\, whether or not Coastal Hospice was part of your journey. \nTo register\, please email Rachel Gulley\, Coastal Hospice Bereavement Counselor\, by phone at 667-252-0557 or by email rgulley@coastalhospice.org. If leaving a message\, please state the grief support group you are interested in attending. \nMAC Inc\n909 Progress Cir | Salisbury\, MD\nThursdays | April 9 – May 28\n12:00 pm -1:30 pm
URL:https://www.coastalhospice.org/events/grief-recovery-support-group-apr-may/2026-05-14/
LOCATION:909 Progress Circle\, Salisbury\, MD 21804
CATEGORIES:Grief Counseling
ATTACH;FMTTYPE=image/jpeg:https://www.coastalhospice.org/wp-content/uploads/2025/12/Grief-Recovery-Support-Group-Apr-May-2026-1.jpg
ORGANIZER;CN="Rachel Gulley":MAILTO:rgulley@coastalhospice.org
END:VEVENT
BEGIN:VEVENT
DTSTART;TZID=America/New_York:20260521T120000
DTEND;TZID=America/New_York:20260521T133000
DTSTAMP:20260422T042327
CREATED:20251218T210629Z
LAST-MODIFIED:20251218T210631Z
UID:10003570-1779364800-1779370200@www.coastalhospice.org
SUMMARY:Grief & Recovery Support Group (Apr/May)
DESCRIPTION:Join Coastal Hospice’s 8-week Grief & Recovery Support Group to experience a safe\, non-judgmental\, and supportive environment where your healing can begin. Open to all adults who have experienced the death of a loved one\, whether or not Coastal Hospice was part of your journey. \nTo register\, please email Rachel Gulley\, Coastal Hospice Bereavement Counselor\, by phone at 667-252-0557 or by email rgulley@coastalhospice.org. If leaving a message\, please state the grief support group you are interested in attending. \nMAC Inc\n909 Progress Cir | Salisbury\, MD\nThursdays | April 9 – May 28\n12:00 pm -1:30 pm
URL:https://www.coastalhospice.org/events/grief-recovery-support-group-apr-may/2026-05-21/
LOCATION:909 Progress Circle\, Salisbury\, MD 21804
CATEGORIES:Grief Counseling
ATTACH;FMTTYPE=image/jpeg:https://www.coastalhospice.org/wp-content/uploads/2025/12/Grief-Recovery-Support-Group-Apr-May-2026-1.jpg
ORGANIZER;CN="Rachel Gulley":MAILTO:rgulley@coastalhospice.org
END:VEVENT
BEGIN:VEVENT
DTSTART;TZID=America/New_York:20260528T120000
DTEND;TZID=America/New_York:20260528T133000
DTSTAMP:20260422T042327
CREATED:20251218T210629Z
LAST-MODIFIED:20251218T210631Z
UID:10003571-1779969600-1779975000@www.coastalhospice.org
SUMMARY:Grief & Recovery Support Group (Apr/May)
DESCRIPTION:Join Coastal Hospice’s 8-week Grief & Recovery Support Group to experience a safe\, non-judgmental\, and supportive environment where your healing can begin. Open to all adults who have experienced the death of a loved one\, whether or not Coastal Hospice was part of your journey. \nTo register\, please email Rachel Gulley\, Coastal Hospice Bereavement Counselor\, by phone at 667-252-0557 or by email rgulley@coastalhospice.org. If leaving a message\, please state the grief support group you are interested in attending. \nMAC Inc\n909 Progress Cir | Salisbury\, MD\nThursdays | April 9 – May 28\n12:00 pm -1:30 pm
URL:https://www.coastalhospice.org/events/grief-recovery-support-group-apr-may/2026-05-28/
LOCATION:909 Progress Circle\, Salisbury\, MD 21804
CATEGORIES:Grief Counseling
ATTACH;FMTTYPE=image/jpeg:https://www.coastalhospice.org/wp-content/uploads/2025/12/Grief-Recovery-Support-Group-Apr-May-2026-1.jpg
ORGANIZER;CN="Rachel Gulley":MAILTO:rgulley@coastalhospice.org
END:VEVENT
BEGIN:VEVENT
DTSTART;TZID=America/New_York:20260709T120000
DTEND;TZID=America/New_York:20260709T133000
DTSTAMP:20260422T042328
CREATED:20251218T214216Z
LAST-MODIFIED:20251218T214221Z
UID:10003572-1783598400-1783603800@www.coastalhospice.org
SUMMARY:Grief & Recovery Support Group (Jul/Aug)
DESCRIPTION:Join Coastal Hospice’s 8-week Grief & Recovery Support Group to experience a safe\, non-judgmental\, and supportive environment where your healing can begin. Open to all adults who have experienced the death of a loved one\, whether or not Coastal Hospice was part of your journey. \nTo register\, please email Rachel Gulley\, Coastal Hospice Bereavement Counselor\, by phone at 667-252-0557 or by email rgulley@coastalhospice.org. If leaving a message\, please state the grief support group you are interested in attending. \nMAC Inc\n909 Progress Cir | Salisbury\, MD\nThursdays | July 9 – August 27\n12:00 pm -1:30 pm
URL:https://www.coastalhospice.org/events/grief-recovery-support-group-jul-aug/2026-07-09/
LOCATION:909 Progress Circle\, Salisbury\, MD 21804
CATEGORIES:Grief Counseling
ATTACH;FMTTYPE=image/jpeg:https://www.coastalhospice.org/wp-content/uploads/2025/12/Grief-Recovery-Support-Group-Jul-Aug-2026-1.jpg
ORGANIZER;CN="Rachel Gulley":MAILTO:rgulley@coastalhospice.org
END:VEVENT
BEGIN:VEVENT
DTSTART;TZID=America/New_York:20260716T120000
DTEND;TZID=America/New_York:20260716T133000
DTSTAMP:20260422T042328
CREATED:20251218T214216Z
LAST-MODIFIED:20251218T214221Z
UID:10003573-1784203200-1784208600@www.coastalhospice.org
SUMMARY:Grief & Recovery Support Group (Jul/Aug)
DESCRIPTION:Join Coastal Hospice’s 8-week Grief & Recovery Support Group to experience a safe\, non-judgmental\, and supportive environment where your healing can begin. Open to all adults who have experienced the death of a loved one\, whether or not Coastal Hospice was part of your journey. \nTo register\, please email Rachel Gulley\, Coastal Hospice Bereavement Counselor\, by phone at 667-252-0557 or by email rgulley@coastalhospice.org. If leaving a message\, please state the grief support group you are interested in attending. \nMAC Inc\n909 Progress Cir | Salisbury\, MD\nThursdays | July 9 – August 27\n12:00 pm -1:30 pm
URL:https://www.coastalhospice.org/events/grief-recovery-support-group-jul-aug/2026-07-16/
LOCATION:909 Progress Circle\, Salisbury\, MD 21804
CATEGORIES:Grief Counseling
ATTACH;FMTTYPE=image/jpeg:https://www.coastalhospice.org/wp-content/uploads/2025/12/Grief-Recovery-Support-Group-Jul-Aug-2026-1.jpg
ORGANIZER;CN="Rachel Gulley":MAILTO:rgulley@coastalhospice.org
END:VEVENT
BEGIN:VEVENT
DTSTART;TZID=America/New_York:20260723T120000
DTEND;TZID=America/New_York:20260723T133000
DTSTAMP:20260422T042328
CREATED:20251218T214216Z
LAST-MODIFIED:20251218T214221Z
UID:10003574-1784808000-1784813400@www.coastalhospice.org
SUMMARY:Grief & Recovery Support Group (Jul/Aug)
DESCRIPTION:Join Coastal Hospice’s 8-week Grief & Recovery Support Group to experience a safe\, non-judgmental\, and supportive environment where your healing can begin. Open to all adults who have experienced the death of a loved one\, whether or not Coastal Hospice was part of your journey. \nTo register\, please email Rachel Gulley\, Coastal Hospice Bereavement Counselor\, by phone at 667-252-0557 or by email rgulley@coastalhospice.org. If leaving a message\, please state the grief support group you are interested in attending. \nMAC Inc\n909 Progress Cir | Salisbury\, MD\nThursdays | July 9 – August 27\n12:00 pm -1:30 pm
URL:https://www.coastalhospice.org/events/grief-recovery-support-group-jul-aug/2026-07-23/
LOCATION:909 Progress Circle\, Salisbury\, MD 21804
CATEGORIES:Grief Counseling
ATTACH;FMTTYPE=image/jpeg:https://www.coastalhospice.org/wp-content/uploads/2025/12/Grief-Recovery-Support-Group-Jul-Aug-2026-1.jpg
ORGANIZER;CN="Rachel Gulley":MAILTO:rgulley@coastalhospice.org
END:VEVENT
BEGIN:VEVENT
DTSTART;TZID=America/New_York:20260730T120000
DTEND;TZID=America/New_York:20260730T133000
DTSTAMP:20260422T042328
CREATED:20251218T214216Z
LAST-MODIFIED:20251218T214221Z
UID:10003575-1785412800-1785418200@www.coastalhospice.org
SUMMARY:Grief & Recovery Support Group (Jul/Aug)
DESCRIPTION:Join Coastal Hospice’s 8-week Grief & Recovery Support Group to experience a safe\, non-judgmental\, and supportive environment where your healing can begin. Open to all adults who have experienced the death of a loved one\, whether or not Coastal Hospice was part of your journey. \nTo register\, please email Rachel Gulley\, Coastal Hospice Bereavement Counselor\, by phone at 667-252-0557 or by email rgulley@coastalhospice.org. If leaving a message\, please state the grief support group you are interested in attending. \nMAC Inc\n909 Progress Cir | Salisbury\, MD\nThursdays | July 9 – August 27\n12:00 pm -1:30 pm
URL:https://www.coastalhospice.org/events/grief-recovery-support-group-jul-aug/2026-07-30/
LOCATION:909 Progress Circle\, Salisbury\, MD 21804
CATEGORIES:Grief Counseling
ATTACH;FMTTYPE=image/jpeg:https://www.coastalhospice.org/wp-content/uploads/2025/12/Grief-Recovery-Support-Group-Jul-Aug-2026-1.jpg
ORGANIZER;CN="Rachel Gulley":MAILTO:rgulley@coastalhospice.org
END:VEVENT
BEGIN:VEVENT
DTSTART;TZID=America/New_York:20260806T120000
DTEND;TZID=America/New_York:20260806T133000
DTSTAMP:20260422T042328
CREATED:20251218T214216Z
LAST-MODIFIED:20251218T214221Z
UID:10003576-1786017600-1786023000@www.coastalhospice.org
SUMMARY:Grief & Recovery Support Group (Jul/Aug)
DESCRIPTION:Join Coastal Hospice’s 8-week Grief & Recovery Support Group to experience a safe\, non-judgmental\, and supportive environment where your healing can begin. Open to all adults who have experienced the death of a loved one\, whether or not Coastal Hospice was part of your journey. \nTo register\, please email Rachel Gulley\, Coastal Hospice Bereavement Counselor\, by phone at 667-252-0557 or by email rgulley@coastalhospice.org. If leaving a message\, please state the grief support group you are interested in attending. \nMAC Inc\n909 Progress Cir | Salisbury\, MD\nThursdays | July 9 – August 27\n12:00 pm -1:30 pm
URL:https://www.coastalhospice.org/events/grief-recovery-support-group-jul-aug/2026-08-06/
LOCATION:909 Progress Circle\, Salisbury\, MD 21804
CATEGORIES:Grief Counseling
ATTACH;FMTTYPE=image/jpeg:https://www.coastalhospice.org/wp-content/uploads/2025/12/Grief-Recovery-Support-Group-Jul-Aug-2026-1.jpg
ORGANIZER;CN="Rachel Gulley":MAILTO:rgulley@coastalhospice.org
END:VEVENT
BEGIN:VEVENT
DTSTART;TZID=America/New_York:20260813T120000
DTEND;TZID=America/New_York:20260813T133000
DTSTAMP:20260422T042328
CREATED:20251218T214216Z
LAST-MODIFIED:20251218T214221Z
UID:10003577-1786622400-1786627800@www.coastalhospice.org
SUMMARY:Grief & Recovery Support Group (Jul/Aug)
DESCRIPTION:Join Coastal Hospice’s 8-week Grief & Recovery Support Group to experience a safe\, non-judgmental\, and supportive environment where your healing can begin. Open to all adults who have experienced the death of a loved one\, whether or not Coastal Hospice was part of your journey. \nTo register\, please email Rachel Gulley\, Coastal Hospice Bereavement Counselor\, by phone at 667-252-0557 or by email rgulley@coastalhospice.org. If leaving a message\, please state the grief support group you are interested in attending. \nMAC Inc\n909 Progress Cir | Salisbury\, MD\nThursdays | July 9 – August 27\n12:00 pm -1:30 pm
URL:https://www.coastalhospice.org/events/grief-recovery-support-group-jul-aug/2026-08-13/
LOCATION:909 Progress Circle\, Salisbury\, MD 21804
CATEGORIES:Grief Counseling
ATTACH;FMTTYPE=image/jpeg:https://www.coastalhospice.org/wp-content/uploads/2025/12/Grief-Recovery-Support-Group-Jul-Aug-2026-1.jpg
ORGANIZER;CN="Rachel Gulley":MAILTO:rgulley@coastalhospice.org
END:VEVENT
BEGIN:VEVENT
DTSTART;TZID=America/New_York:20260820T120000
DTEND;TZID=America/New_York:20260820T133000
DTSTAMP:20260422T042328
CREATED:20251218T214216Z
LAST-MODIFIED:20251218T214221Z
UID:10003578-1787227200-1787232600@www.coastalhospice.org
SUMMARY:Grief & Recovery Support Group (Jul/Aug)
DESCRIPTION:Join Coastal Hospice’s 8-week Grief & Recovery Support Group to experience a safe\, non-judgmental\, and supportive environment where your healing can begin. Open to all adults who have experienced the death of a loved one\, whether or not Coastal Hospice was part of your journey. \nTo register\, please email Rachel Gulley\, Coastal Hospice Bereavement Counselor\, by phone at 667-252-0557 or by email rgulley@coastalhospice.org. If leaving a message\, please state the grief support group you are interested in attending. \nMAC Inc\n909 Progress Cir | Salisbury\, MD\nThursdays | July 9 – August 27\n12:00 pm -1:30 pm
URL:https://www.coastalhospice.org/events/grief-recovery-support-group-jul-aug/2026-08-20/
LOCATION:909 Progress Circle\, Salisbury\, MD 21804
CATEGORIES:Grief Counseling
ATTACH;FMTTYPE=image/jpeg:https://www.coastalhospice.org/wp-content/uploads/2025/12/Grief-Recovery-Support-Group-Jul-Aug-2026-1.jpg
ORGANIZER;CN="Rachel Gulley":MAILTO:rgulley@coastalhospice.org
END:VEVENT
BEGIN:VEVENT
DTSTART;TZID=America/New_York:20260827T120000
DTEND;TZID=America/New_York:20260827T133000
DTSTAMP:20260422T042328
CREATED:20251218T214216Z
LAST-MODIFIED:20251218T214221Z
UID:10003579-1787832000-1787837400@www.coastalhospice.org
SUMMARY:Grief & Recovery Support Group (Jul/Aug)
DESCRIPTION:Join Coastal Hospice’s 8-week Grief & Recovery Support Group to experience a safe\, non-judgmental\, and supportive environment where your healing can begin. Open to all adults who have experienced the death of a loved one\, whether or not Coastal Hospice was part of your journey. \nTo register\, please email Rachel Gulley\, Coastal Hospice Bereavement Counselor\, by phone at 667-252-0557 or by email rgulley@coastalhospice.org. If leaving a message\, please state the grief support group you are interested in attending. \nMAC Inc\n909 Progress Cir | Salisbury\, MD\nThursdays | July 9 – August 27\n12:00 pm -1:30 pm
URL:https://www.coastalhospice.org/events/grief-recovery-support-group-jul-aug/2026-08-27/
LOCATION:909 Progress Circle\, Salisbury\, MD 21804
CATEGORIES:Grief Counseling
ATTACH;FMTTYPE=image/jpeg:https://www.coastalhospice.org/wp-content/uploads/2025/12/Grief-Recovery-Support-Group-Jul-Aug-2026-1.jpg
ORGANIZER;CN="Rachel Gulley":MAILTO:rgulley@coastalhospice.org
END:VEVENT
END:VCALENDAR